BEGIN:VCALENDAR
VERSION:2.0
PRODID:-//Bingley St Ives Golf Club - ECPv6.15.11//NONSGML v1.0//EN
CALSCALE:GREGORIAN
METHOD:PUBLISH
X-WR-CALNAME:Bingley St Ives Golf Club
X-ORIGINAL-URL:https://bingleystivesgc.com
X-WR-CALDESC:Events for Bingley St Ives Golf Club
REFRESH-INTERVAL;VALUE=DURATION:PT1H
X-Robots-Tag:noindex
X-PUBLISHED-TTL:PT1H
BEGIN:VTIMEZONE
TZID:UTC
BEGIN:STANDARD
TZOFFSETFROM:+0000
TZOFFSETTO:+0000
TZNAME:UTC
DTSTART:20190101T000000
END:STANDARD
END:VTIMEZONE
BEGIN:VEVENT
DTSTART;TZID=UTC:20200826T163000
DTEND;TZID=UTC:20200826T173000
DTSTAMP:20260419T151232
CREATED:20200212T095853Z
LAST-MODIFIED:20200212T095853Z
UID:1806-1598459400-1598463000@bingleystivesgc.com
SUMMARY:Rabbits v Ladies
DESCRIPTION:Rabbits Team v Ladies Team – Claire Lyness Trophy
URL:https://bingleystivesgc.com/event/rabbits-v-ladies/
LOCATION:BIngley St Ives Golf Club\, St. Ives Estate\, Bingley\, West Yorkshire\, BD16 1AT\, United Kingdom
CATEGORIES:Golf
END:VEVENT
END:VCALENDAR