BEGIN:VCALENDAR
VERSION:2.0
PRODID:-//Bingley St Ives Golf Club - ECPv6.15.11//NONSGML v1.0//EN
CALSCALE:GREGORIAN
METHOD:PUBLISH
X-WR-CALNAME:Bingley St Ives Golf Club
X-ORIGINAL-URL:https://bingleystivesgc.com
X-WR-CALDESC:Events for Bingley St Ives Golf Club
REFRESH-INTERVAL;VALUE=DURATION:PT1H
X-Robots-Tag:noindex
X-PUBLISHED-TTL:PT1H
BEGIN:VTIMEZONE
TZID:UTC
BEGIN:STANDARD
TZOFFSETFROM:+0000
TZOFFSETTO:+0000
TZNAME:UTC
DTSTART:20190101T000000
END:STANDARD
END:VTIMEZONE
BEGIN:VEVENT
DTSTART;VALUE=DATE:20200829
DTEND;VALUE=DATE:20200830
DTSTAMP:20260419T153521
CREATED:20200219T164531Z
LAST-MODIFIED:20200219T164531Z
UID:2250-1598659200-1598745599@bingleystivesgc.com
SUMMARY:Gents Competition - Professional Cup
DESCRIPTION:
URL:https://bingleystivesgc.com/event/gents-competition-professional-cup/
CATEGORIES:Golf
END:VEVENT
BEGIN:VEVENT
DTSTART;VALUE=DATE:20200829
DTEND;VALUE=DATE:20200830
DTSTAMP:20260419T153521
CREATED:20200827T205454Z
LAST-MODIFIED:20200828T083612Z
UID:3019-1598659200-1598745599@bingleystivesgc.com
SUMMARY:Yellow Tee Stableford
DESCRIPTION:Individual Stableford \nYellow / Red Tees \nDivision 1
URL:https://bingleystivesgc.com/event/yellow-tee-stableford/
LOCATION:BIngley St Ives Golf Club\, St. Ives Estate\, Bingley\, West Yorkshire\, BD16 1AT\, United Kingdom
CATEGORIES:Golf
END:VEVENT
BEGIN:VEVENT
DTSTART;TZID=UTC:20200829T080000
DTEND;TZID=UTC:20200829T170000
DTSTAMP:20260419T153521
CREATED:20200827T205206Z
LAST-MODIFIED:20200827T205206Z
UID:3017-1598688000-1598720400@bingleystivesgc.com
SUMMARY:Pros Cup
DESCRIPTION:4BBB Stableford \nDivision 1 \nWhite/Red Tees
URL:https://bingleystivesgc.com/event/pros-cup/
LOCATION:BIngley St Ives Golf Club\, St. Ives Estate\, Bingley\, West Yorkshire\, BD16 1AT\, United Kingdom
CATEGORIES:Golf
END:VEVENT
END:VCALENDAR