BEGIN:VCALENDAR
VERSION:2.0
PRODID:-//Bingley St Ives Golf Club - ECPv6.15.11//NONSGML v1.0//EN
CALSCALE:GREGORIAN
METHOD:PUBLISH
X-ORIGINAL-URL:https://bingleystivesgc.com
X-WR-CALDESC:Events for Bingley St Ives Golf Club
REFRESH-INTERVAL;VALUE=DURATION:PT1H
X-Robots-Tag:noindex
X-PUBLISHED-TTL:PT1H
BEGIN:VTIMEZONE
TZID:UTC
BEGIN:STANDARD
TZOFFSETFROM:+0000
TZOFFSETTO:+0000
TZNAME:UTC
DTSTART:20190101T000000
END:STANDARD
END:VTIMEZONE
BEGIN:VEVENT
DTSTART;VALUE=DATE:20200901
DTEND;VALUE=DATE:20200902
DTSTAMP:20260413T183544
CREATED:20200212T100002Z
LAST-MODIFIED:20200212T100002Z
UID:1808-1598918400-1599004799@bingleystivesgc.com
SUMMARY:Buck Rabbit
DESCRIPTION:12 hole competition
URL:https://bingleystivesgc.com/event/buck-rabbit-6/
LOCATION:BIngley St Ives Golf Club\, St. Ives Estate\, Bingley\, West Yorkshire\, BD16 1AT\, United Kingdom
CATEGORIES:Golf
END:VEVENT
BEGIN:VEVENT
DTSTART;TZID=UTC:20200901T100000
DTEND;TZID=UTC:20200901T110000
DTSTAMP:20260413T183544
CREATED:20200219T164801Z
LAST-MODIFIED:20200219T164801Z
UID:2258-1598954400-1598958000@bingleystivesgc.com
SUMMARY:Seniors away at Cookridge Hall GC
DESCRIPTION:
URL:https://bingleystivesgc.com/event/seniors-away-at-cookridge-hall-gc/
CATEGORIES:Golf
END:VEVENT
END:VCALENDAR