BEGIN:VCALENDAR
VERSION:2.0
PRODID:-//Bingley St Ives Golf Club - ECPv6.15.11//NONSGML v1.0//EN
CALSCALE:GREGORIAN
METHOD:PUBLISH
X-ORIGINAL-URL:https://bingleystivesgc.com
X-WR-CALDESC:Events for Bingley St Ives Golf Club
REFRESH-INTERVAL;VALUE=DURATION:PT1H
X-Robots-Tag:noindex
X-PUBLISHED-TTL:PT1H
BEGIN:VTIMEZONE
TZID:UTC
BEGIN:STANDARD
TZOFFSETFROM:+0000
TZOFFSETTO:+0000
TZNAME:UTC
DTSTART:20190101T000000
END:STANDARD
END:VTIMEZONE
BEGIN:VEVENT
DTSTART;VALUE=DATE:20200906
DTEND;VALUE=DATE:20200907
DTSTAMP:20260413T120736
CREATED:20200214T085452Z
LAST-MODIFIED:20200214T085452Z
UID:1854-1599350400-1599436799@bingleystivesgc.com
SUMMARY:Bradford Rabbits Team Championship at Shipley
DESCRIPTION:Bradford Rabbits Team Championship at Shipley
URL:https://bingleystivesgc.com/event/bradford-rabbits-team-championship-at-shipley/
CATEGORIES:Golf
END:VEVENT
BEGIN:VEVENT
DTSTART;VALUE=DATE:20200906
DTEND;VALUE=DATE:20200907
DTSTAMP:20260413T120736
CREATED:20200219T165036Z
LAST-MODIFIED:20200219T165036Z
UID:2266-1599350400-1599436799@bingleystivesgc.com
SUMMARY:Ladies Competition - Medal
DESCRIPTION:
URL:https://bingleystivesgc.com/event/ladies-competition-medal-3/
CATEGORIES:Golf
END:VEVENT
BEGIN:VEVENT
DTSTART;VALUE=DATE:20200906
DTEND;VALUE=DATE:20200907
DTSTAMP:20260413T120736
CREATED:20200828T083920Z
LAST-MODIFIED:20200828T083920Z
UID:3033-1599350400-1599436799@bingleystivesgc.com
SUMMARY:Sunday Stableford
DESCRIPTION:Individual Stableford \ndivision 1 \nyellow/red tee
URL:https://bingleystivesgc.com/event/sunday-stableford-2/
CATEGORIES:Golf
END:VEVENT
BEGIN:VEVENT
DTSTART;VALUE=DATE:20200906
DTEND;VALUE=DATE:20200907
DTSTAMP:20260413T120736
CREATED:20200828T084109Z
LAST-MODIFIED:20200828T084109Z
UID:3035-1599350400-1599436799@bingleystivesgc.com
SUMMARY:September Medal and Gold Brooch
DESCRIPTION:Ladies Medal \nRed Tee
URL:https://bingleystivesgc.com/event/september-medal-and-gold-brooch/
CATEGORIES:Golf
END:VEVENT
END:VCALENDAR