BEGIN:VCALENDAR
VERSION:2.0
PRODID:-//Bingley St Ives Golf Club - ECPv6.15.11//NONSGML v1.0//EN
CALSCALE:GREGORIAN
METHOD:PUBLISH
X-WR-CALNAME:Bingley St Ives Golf Club
X-ORIGINAL-URL:https://bingleystivesgc.com
X-WR-CALDESC:Events for Bingley St Ives Golf Club
REFRESH-INTERVAL;VALUE=DURATION:PT1H
X-Robots-Tag:noindex
X-PUBLISHED-TTL:PT1H
BEGIN:VTIMEZONE
TZID:UTC
BEGIN:STANDARD
TZOFFSETFROM:+0000
TZOFFSETTO:+0000
TZNAME:UTC
DTSTART:20190101T000000
END:STANDARD
END:VTIMEZONE
BEGIN:VEVENT
DTSTART;VALUE=DATE:20200912
DTEND;VALUE=DATE:20200913
DTSTAMP:20260420T220439
CREATED:20200120T112847Z
LAST-MODIFIED:20200120T112847Z
UID:1578-1599868800-1599955199@bingleystivesgc.com
SUMMARY:Charity Golf Day
DESCRIPTION:
URL:https://bingleystivesgc.com/event/charity-golf-day/
LOCATION:BIngley St Ives Golf Club\, St. Ives Estate\, Bingley\, West Yorkshire\, BD16 1AT\, United Kingdom
CATEGORIES:Golf
END:VEVENT
BEGIN:VEVENT
DTSTART;VALUE=DATE:20200912
DTEND;VALUE=DATE:20200913
DTSTAMP:20260420T220439
CREATED:20200120T113457Z
LAST-MODIFIED:20200120T113457Z
UID:1590-1599868800-1599955199@bingleystivesgc.com
SUMMARY:Charity Social Night
DESCRIPTION:
URL:https://bingleystivesgc.com/event/charity-social-night/
LOCATION:BIngley St Ives Golf Club\, St. Ives Estate\, Bingley\, West Yorkshire\, BD16 1AT\, United Kingdom
CATEGORIES:Social
END:VEVENT
BEGIN:VEVENT
DTSTART;VALUE=DATE:20200912
DTEND;VALUE=DATE:20200913
DTSTAMP:20260420T220439
CREATED:20200219T165306Z
LAST-MODIFIED:20200219T165306Z
UID:2274-1599868800-1599955199@bingleystivesgc.com
SUMMARY:Charity Golf Day
DESCRIPTION:
URL:https://bingleystivesgc.com/event/charity-golf-day-2/
CATEGORIES:Golf
END:VEVENT
END:VCALENDAR