BEGIN:VCALENDAR
VERSION:2.0
PRODID:-//Bingley St Ives Golf Club - ECPv6.15.11//NONSGML v1.0//EN
CALSCALE:GREGORIAN
METHOD:PUBLISH
X-ORIGINAL-URL:https://bingleystivesgc.com
X-WR-CALDESC:Events for Bingley St Ives Golf Club
REFRESH-INTERVAL;VALUE=DURATION:PT1H
X-Robots-Tag:noindex
X-PUBLISHED-TTL:PT1H
BEGIN:VTIMEZONE
TZID:UTC
BEGIN:STANDARD
TZOFFSETFROM:+0000
TZOFFSETTO:+0000
TZNAME:UTC
DTSTART:20190101T000000
END:STANDARD
END:VTIMEZONE
BEGIN:VEVENT
DTSTART;VALUE=DATE:20200919
DTEND;VALUE=DATE:20200920
DTSTAMP:20260420T220758
CREATED:20200220T072320Z
LAST-MODIFIED:20200220T072320Z
UID:2337-1600473600-1600559999@bingleystivesgc.com
SUMMARY:Gents Competition - Stableford
DESCRIPTION:
URL:https://bingleystivesgc.com/event/gents-competition-stableford-2/
CATEGORIES:Golf
END:VEVENT
BEGIN:VEVENT
DTSTART;VALUE=DATE:20200919
DTEND;VALUE=DATE:20200920
DTSTAMP:20260420T220758
CREATED:20200828T084512Z
LAST-MODIFIED:20200828T084512Z
UID:3037-1600473600-1600559999@bingleystivesgc.com
SUMMARY:Mr President’s Day
DESCRIPTION:Individual Stabkeford \nDiv 3 \nTee Yellow/Red
URL:https://bingleystivesgc.com/event/mr-presidents-day-2/
CATEGORIES:Golf
END:VEVENT
BEGIN:VEVENT
DTSTART;TZID=UTC:20200919T130000
DTEND;TZID=UTC:20200919T170000
DTSTAMP:20260420T220758
CREATED:20200220T082612Z
LAST-MODIFIED:20200220T082612Z
UID:2445-1600520400-1600534800@bingleystivesgc.com
SUMMARY:Private Event
DESCRIPTION:Private Event – Golden Wedding Anniversary
URL:https://bingleystivesgc.com/event/private-event-22/
CATEGORIES:Private Event
END:VEVENT
BEGIN:VEVENT
DTSTART;TZID=UTC:20200919T190000
DTEND;TZID=UTC:20200919T190000
DTSTAMP:20260420T220758
CREATED:20200220T082708Z
LAST-MODIFIED:20200220T082708Z
UID:2447-1600542000-1600542000@bingleystivesgc.com
SUMMARY:Private Event
DESCRIPTION:Private Event – 1st Wedding Anniversary
URL:https://bingleystivesgc.com/event/private-event-23/
CATEGORIES:Private Event
END:VEVENT
END:VCALENDAR