BEGIN:VCALENDAR
VERSION:2.0
PRODID:-//Bingley St Ives Golf Club - ECPv6.15.11//NONSGML v1.0//EN
CALSCALE:GREGORIAN
METHOD:PUBLISH
X-WR-CALNAME:Bingley St Ives Golf Club
X-ORIGINAL-URL:https://bingleystivesgc.com
X-WR-CALDESC:Events for Bingley St Ives Golf Club
REFRESH-INTERVAL;VALUE=DURATION:PT1H
X-Robots-Tag:noindex
X-PUBLISHED-TTL:PT1H
BEGIN:VTIMEZONE
TZID:UTC
BEGIN:STANDARD
TZOFFSETFROM:+0000
TZOFFSETTO:+0000
TZNAME:UTC
DTSTART:20190101T000000
END:STANDARD
END:VTIMEZONE
BEGIN:VEVENT
DTSTART;TZID=UTC:20200925T190000
DTEND;TZID=UTC:20200925T233000
DTSTAMP:20260414T051020
CREATED:20200220T072617Z
LAST-MODIFIED:20200220T072617Z
UID:2345-1601060400-1601076600@bingleystivesgc.com
SUMMARY:Private Party
DESCRIPTION:Private Event – Wilsden Juniors Football Club
URL:https://bingleystivesgc.com/event/private-party-24/
CATEGORIES:Private Event
END:VEVENT
END:VCALENDAR