BEGIN:VCALENDAR
VERSION:2.0
PRODID:-//Bingley St Ives Golf Club - ECPv6.15.11//NONSGML v1.0//EN
CALSCALE:GREGORIAN
METHOD:PUBLISH
X-ORIGINAL-URL:https://bingleystivesgc.com
X-WR-CALDESC:Events for Bingley St Ives Golf Club
REFRESH-INTERVAL;VALUE=DURATION:PT1H
X-Robots-Tag:noindex
X-PUBLISHED-TTL:PT1H
BEGIN:VTIMEZONE
TZID:UTC
BEGIN:STANDARD
TZOFFSETFROM:+0000
TZOFFSETTO:+0000
TZNAME:UTC
DTSTART:20190101T000000
END:STANDARD
END:VTIMEZONE
BEGIN:VEVENT
DTSTART;VALUE=DATE:20200927
DTEND;VALUE=DATE:20200928
DTSTAMP:20260420T220753
CREATED:20200220T071045Z
LAST-MODIFIED:20200220T071045Z
UID:2314-1601164800-1601251199@bingleystivesgc.com
SUMMARY:Ladies Competition - Autumn 4BBB Medal
DESCRIPTION:
URL:https://bingleystivesgc.com/event/ladies-competition-autumn-4bbb-medal/
CATEGORIES:Golf
END:VEVENT
BEGIN:VEVENT
DTSTART;VALUE=DATE:20200927
DTEND;VALUE=DATE:20200928
DTSTAMP:20260420T220753
CREATED:20200220T072747Z
LAST-MODIFIED:20200220T072747Z
UID:2349-1601164800-1601251199@bingleystivesgc.com
SUMMARY:Club Sunday Stableford
DESCRIPTION:
URL:https://bingleystivesgc.com/event/club-sunday-stableford-4/
CATEGORIES:Golf
END:VEVENT
BEGIN:VEVENT
DTSTART;VALUE=DATE:20200927
DTEND;VALUE=DATE:20200928
DTSTAMP:20260420T220753
CREATED:20200828T085721Z
LAST-MODIFIED:20200828T085721Z
UID:3047-1601164800-1601251199@bingleystivesgc.com
SUMMARY:Ladies Turkey Trot
DESCRIPTION:Stableford \nRed Tees
URL:https://bingleystivesgc.com/event/ladies-turkey-trot/
CATEGORIES:Golf
END:VEVENT
BEGIN:VEVENT
DTSTART;TZID=UTC:20200927T080000
DTEND;TZID=UTC:20200927T170000
DTSTAMP:20260420T220753
CREATED:20200212T100322Z
LAST-MODIFIED:20200214T085540Z
UID:1814-1601193600-1601226000@bingleystivesgc.com
SUMMARY:Buck Rabbit Final
DESCRIPTION:18 hole competition
URL:https://bingleystivesgc.com/event/buck-rabbit-final/
LOCATION:BIngley St Ives Golf Club\, St. Ives Estate\, Bingley\, West Yorkshire\, BD16 1AT\, United Kingdom
CATEGORIES:Golf
END:VEVENT
END:VCALENDAR