BEGIN:VCALENDAR
VERSION:2.0
PRODID:-//Bingley St Ives Golf Club - ECPv6.15.11//NONSGML v1.0//EN
CALSCALE:GREGORIAN
METHOD:PUBLISH
X-ORIGINAL-URL:https://bingleystivesgc.com
X-WR-CALDESC:Events for Bingley St Ives Golf Club
REFRESH-INTERVAL;VALUE=DURATION:PT1H
X-Robots-Tag:noindex
X-PUBLISHED-TTL:PT1H
BEGIN:VTIMEZONE
TZID:UTC
BEGIN:STANDARD
TZOFFSETFROM:+0000
TZOFFSETTO:+0000
TZNAME:UTC
DTSTART:20190101T000000
END:STANDARD
END:VTIMEZONE
BEGIN:VEVENT
DTSTART;VALUE=DATE:20200928
DTEND;VALUE=DATE:20200929
DTSTAMP:20260420T220802
CREATED:20200220T072933Z
LAST-MODIFIED:20200220T072933Z
UID:2351-1601251200-1601337599@bingleystivesgc.com
SUMMARY:Last Monday that Bar & Catering are OPEN
DESCRIPTION:The Clubhouse Bar & Catering ceases trading on Mondays from October to Easter Weekend 2021
URL:https://bingleystivesgc.com/event/last-monday-that-bar-catering-are-open/
CATEGORIES:Social
END:VEVENT
END:VCALENDAR