BEGIN:VCALENDAR
VERSION:2.0
PRODID:-//Bingley St Ives Golf Club - ECPv6.15.11//NONSGML v1.0//EN
CALSCALE:GREGORIAN
METHOD:PUBLISH
X-ORIGINAL-URL:https://bingleystivesgc.com
X-WR-CALDESC:Events for Bingley St Ives Golf Club
REFRESH-INTERVAL;VALUE=DURATION:PT1H
X-Robots-Tag:noindex
X-PUBLISHED-TTL:PT1H
BEGIN:VTIMEZONE
TZID:UTC
BEGIN:STANDARD
TZOFFSETFROM:+0000
TZOFFSETTO:+0000
TZNAME:UTC
DTSTART:20190101T000000
END:STANDARD
END:VTIMEZONE
BEGIN:VEVENT
DTSTART;VALUE=DATE:20201003
DTEND;VALUE=DATE:20201004
DTSTAMP:20260420T220805
CREATED:20200220T073115Z
LAST-MODIFIED:20200220T073115Z
UID:2355-1601683200-1601769599@bingleystivesgc.com
SUMMARY:Gents Competition - October Medal & Annual Medal
DESCRIPTION:
URL:https://bingleystivesgc.com/event/gents-competition-october-medal-annual-medal/
CATEGORIES:Golf
END:VEVENT
BEGIN:VEVENT
DTSTART;VALUE=DATE:20201003
DTEND;VALUE=DATE:20201004
DTSTAMP:20260420T220805
CREATED:20200220T073159Z
LAST-MODIFIED:20200220T073159Z
UID:2357-1601683200-1601769599@bingleystivesgc.com
SUMMARY:Private Event
DESCRIPTION:Private Event – wedding
URL:https://bingleystivesgc.com/event/private-event-4/
CATEGORIES:Private Event
END:VEVENT
BEGIN:VEVENT
DTSTART;VALUE=DATE:20201003
DTEND;VALUE=DATE:20201004
DTSTAMP:20260420T220805
CREATED:20200828T085958Z
LAST-MODIFIED:20200828T085958Z
UID:3049-1601683200-1601769599@bingleystivesgc.com
SUMMARY:Yellow Tee Stableford
DESCRIPTION:Individual Stableford \nDivision 1 \nTee Yellow/Red
URL:https://bingleystivesgc.com/event/yellow-tee-stableford-4/
CATEGORIES:Golf
END:VEVENT
END:VCALENDAR