BEGIN:VCALENDAR
VERSION:2.0
PRODID:-//Bingley St Ives Golf Club - ECPv6.15.11//NONSGML v1.0//EN
CALSCALE:GREGORIAN
METHOD:PUBLISH
X-WR-CALNAME:Bingley St Ives Golf Club
X-ORIGINAL-URL:https://bingleystivesgc.com
X-WR-CALDESC:Events for Bingley St Ives Golf Club
REFRESH-INTERVAL;VALUE=DURATION:PT1H
X-Robots-Tag:noindex
X-PUBLISHED-TTL:PT1H
BEGIN:VTIMEZONE
TZID:UTC
BEGIN:STANDARD
TZOFFSETFROM:+0000
TZOFFSETTO:+0000
TZNAME:UTC
DTSTART:20190101T000000
END:STANDARD
END:VTIMEZONE
BEGIN:VEVENT
DTSTART;VALUE=DATE:20201231
DTEND;VALUE=DATE:20210101
DTSTAMP:20260421T163458
CREATED:20200120T114030Z
LAST-MODIFIED:20200120T114030Z
UID:1600-1609372800-1609459199@bingleystivesgc.com
SUMMARY:New Years Eve Party
DESCRIPTION:
URL:https://bingleystivesgc.com/event/new-years-eve-party/
LOCATION:BIngley St Ives Golf Club\, St. Ives Estate\, Bingley\, West Yorkshire\, BD16 1AT\, United Kingdom
CATEGORIES:Social
END:VEVENT
BEGIN:VEVENT
DTSTART;TZID=UTC:20201231T200000
DTEND;TZID=UTC:20201231T200000
DTSTAMP:20260421T163458
CREATED:20200220T080804Z
LAST-MODIFIED:20200220T080804Z
UID:2427-1609444800-1609444800@bingleystivesgc.com
SUMMARY:New Years Eve Party
DESCRIPTION:
URL:https://bingleystivesgc.com/event/new-years-eve-party-2/
CATEGORIES:Social
END:VEVENT
END:VCALENDAR