BEGIN:VCALENDAR
VERSION:2.0
PRODID:-//Bingley St Ives Golf Club - ECPv6.15.11//NONSGML v1.0//EN
CALSCALE:GREGORIAN
METHOD:PUBLISH
X-ORIGINAL-URL:https://bingleystivesgc.com
X-WR-CALDESC:Events for Bingley St Ives Golf Club
REFRESH-INTERVAL;VALUE=DURATION:PT1H
X-Robots-Tag:noindex
X-PUBLISHED-TTL:PT1H
BEGIN:VTIMEZONE
TZID:UTC
BEGIN:STANDARD
TZOFFSETFROM:+0000
TZOFFSETTO:+0000
TZNAME:UTC
DTSTART:20200101T000000
END:STANDARD
END:VTIMEZONE
BEGIN:VEVENT
DTSTART;VALUE=DATE:20210418
DTEND;VALUE=DATE:20210419
DTSTAMP:20260422T202012
CREATED:20210320T084628Z
LAST-MODIFIED:20210320T084710Z
UID:3504-1618704000-1618790399@bingleystivesgc.com
SUMMARY:Ladies Sunday Winter GP - 4 Man Team
DESCRIPTION:
URL:https://bingleystivesgc.com/event/sunday-winter-gp-stableford-4/
CATEGORIES:Golf
END:VEVENT
BEGIN:VEVENT
DTSTART;VALUE=DATE:20210418
DTEND;VALUE=DATE:20210419
DTSTAMP:20260422T202012
CREATED:20210320T084819Z
LAST-MODIFIED:20210320T084819Z
UID:3508-1618704000-1618790399@bingleystivesgc.com
SUMMARY:Sunday Winter GP - Stableford
DESCRIPTION:
URL:https://bingleystivesgc.com/event/sunday-winter-gp-stableford-5/
CATEGORIES:Golf
END:VEVENT
END:VCALENDAR