BEGIN:VCALENDAR
VERSION:2.0
PRODID:-//Bingley St Ives Golf Club - ECPv6.15.11//NONSGML v1.0//EN
CALSCALE:GREGORIAN
METHOD:PUBLISH
X-ORIGINAL-URL:https://bingleystivesgc.com
X-WR-CALDESC:Events for Bingley St Ives Golf Club
REFRESH-INTERVAL;VALUE=DURATION:PT1H
X-Robots-Tag:noindex
X-PUBLISHED-TTL:PT1H
BEGIN:VTIMEZONE
TZID:UTC
BEGIN:STANDARD
TZOFFSETFROM:+0000
TZOFFSETTO:+0000
TZNAME:UTC
DTSTART:20200101T000000
END:STANDARD
END:VTIMEZONE
BEGIN:VEVENT
DTSTART;VALUE=DATE:20210423
DTEND;VALUE=DATE:20210424
DTSTAMP:20260422T202204
CREATED:20210320T085059Z
LAST-MODIFIED:20210320T085324Z
UID:3512-1619136000-1619222399@bingleystivesgc.com
SUMMARY:Mixed Club Competition
DESCRIPTION:
URL:https://bingleystivesgc.com/event/mixed-club-competition/
CATEGORIES:Golf
END:VEVENT
BEGIN:VEVENT
DTSTART;TZID=UTC:20210423T130000
DTEND;TZID=UTC:20210423T150000
DTSTAMP:20260422T202204
CREATED:20210413T080405Z
LAST-MODIFIED:20210413T080405Z
UID:3620-1619182800-1619190000@bingleystivesgc.com
SUMMARY:Heywood Bash Golf Day
DESCRIPTION:
URL:https://bingleystivesgc.com/event/heywood-bash-golf-day/
CATEGORIES:Golf
END:VEVENT
END:VCALENDAR