BEGIN:VCALENDAR
VERSION:2.0
PRODID:-//Bingley St Ives Golf Club - ECPv6.15.11//NONSGML v1.0//EN
CALSCALE:GREGORIAN
METHOD:PUBLISH
X-ORIGINAL-URL:https://bingleystivesgc.com
X-WR-CALDESC:Events for Bingley St Ives Golf Club
REFRESH-INTERVAL;VALUE=DURATION:PT1H
X-Robots-Tag:noindex
X-PUBLISHED-TTL:PT1H
BEGIN:VTIMEZONE
TZID:UTC
BEGIN:STANDARD
TZOFFSETFROM:+0000
TZOFFSETTO:+0000
TZNAME:UTC
DTSTART:20200101T000000
END:STANDARD
END:VTIMEZONE
BEGIN:VEVENT
DTSTART;VALUE=DATE:20210502
DTEND;VALUE=DATE:20210503
DTSTAMP:20260422T202156
CREATED:20210320T090111Z
LAST-MODIFIED:20210320T090111Z
UID:3524-1619913600-1619999999@bingleystivesgc.com
SUMMARY:Sunday Winter GP - Stableford
DESCRIPTION:
URL:https://bingleystivesgc.com/event/sunday-winter-gp-stableford-7/
CATEGORIES:Golf
END:VEVENT
BEGIN:VEVENT
DTSTART;VALUE=DATE:20210502
DTEND;VALUE=DATE:20210503
DTSTAMP:20260422T202156
CREATED:20210320T090148Z
LAST-MODIFIED:20210320T090148Z
UID:3526-1619913600-1619999999@bingleystivesgc.com
SUMMARY:Ladies May Medal & Medal Trophy
DESCRIPTION:
URL:https://bingleystivesgc.com/event/ladies-may-medal-medal-trophy/
END:VEVENT
END:VCALENDAR