BEGIN:VCALENDAR
VERSION:2.0
PRODID:-//Bingley St Ives Golf Club - ECPv6.15.11//NONSGML v1.0//EN
CALSCALE:GREGORIAN
METHOD:PUBLISH
X-ORIGINAL-URL:https://bingleystivesgc.com
X-WR-CALDESC:Events for Bingley St Ives Golf Club
REFRESH-INTERVAL;VALUE=DURATION:PT1H
X-Robots-Tag:noindex
X-PUBLISHED-TTL:PT1H
BEGIN:VTIMEZONE
TZID:UTC
BEGIN:STANDARD
TZOFFSETFROM:+0000
TZOFFSETTO:+0000
TZNAME:UTC
DTSTART:20200101T000000
END:STANDARD
END:VTIMEZONE
BEGIN:VEVENT
DTSTART;VALUE=DATE:20210516
DTEND;VALUE=DATE:20210517
DTSTAMP:20260423T011522
CREATED:20210320T091505Z
LAST-MODIFIED:20210320T091505Z
UID:3546-1621123200-1621209599@bingleystivesgc.com
SUMMARY:Sunday Stableford
DESCRIPTION:
URL:https://bingleystivesgc.com/event/sunday-stableford-4/
CATEGORIES:Golf
END:VEVENT
BEGIN:VEVENT
DTSTART;VALUE=DATE:20210516
DTEND;VALUE=DATE:20210517
DTSTAMP:20260423T011522
CREATED:20210320T091548Z
LAST-MODIFIED:20210320T091548Z
UID:3548-1621123200-1621209599@bingleystivesgc.com
SUMMARY:Ladies - Bessie Graham Qualifier
DESCRIPTION:
URL:https://bingleystivesgc.com/event/ladies-bessie-graham-qualifier/
CATEGORIES:Golf
END:VEVENT
END:VCALENDAR