BEGIN:VCALENDAR
VERSION:2.0
PRODID:-//Bingley St Ives Golf Club - ECPv6.15.11//NONSGML v1.0//EN
CALSCALE:GREGORIAN
METHOD:PUBLISH
X-WR-CALNAME:Bingley St Ives Golf Club
X-ORIGINAL-URL:https://bingleystivesgc.com
X-WR-CALDESC:Events for Bingley St Ives Golf Club
REFRESH-INTERVAL;VALUE=DURATION:PT1H
X-Robots-Tag:noindex
X-PUBLISHED-TTL:PT1H
BEGIN:VTIMEZONE
TZID:UTC
BEGIN:STANDARD
TZOFFSETFROM:+0000
TZOFFSETTO:+0000
TZNAME:UTC
DTSTART:20200101T000000
END:STANDARD
END:VTIMEZONE
BEGIN:VEVENT
DTSTART;VALUE=DATE:20210522
DTEND;VALUE=DATE:20210523
DTSTAMP:20260423T010627
CREATED:20210320T091842Z
LAST-MODIFIED:20210320T091842Z
UID:3554-1621641600-1621727999@bingleystivesgc.com
SUMMARY:John Ambler Greenwood - 4 Ball Medal
DESCRIPTION:
URL:https://bingleystivesgc.com/event/john-ambler-greenwood-4-ball-medal/
CATEGORIES:Golf
END:VEVENT
BEGIN:VEVENT
DTSTART;TZID=UTC:20210522T150000
DTEND;TZID=UTC:20210522T153000
DTSTAMP:20260423T010627
CREATED:20210218T101948Z
LAST-MODIFIED:20210218T101948Z
UID:3331-1621695600-1621697400@bingleystivesgc.com
SUMMARY:Ladies ADP v Skipton
DESCRIPTION:
URL:https://bingleystivesgc.com/event/ladies-adp-v-skipton/
CATEGORIES:Golf
END:VEVENT
BEGIN:VEVENT
DTSTART;TZID=UTC:20210522T183000
DTEND;TZID=UTC:20210522T233000
DTSTAMP:20260423T010627
CREATED:20210218T102044Z
LAST-MODIFIED:20210218T102044Z
UID:3333-1621708200-1621726200@bingleystivesgc.com
SUMMARY:Private Party
DESCRIPTION:Wedding Everett
URL:https://bingleystivesgc.com/event/private-party-21/
CATEGORIES:Social
END:VEVENT
END:VCALENDAR