BEGIN:VCALENDAR
VERSION:2.0
PRODID:-//Bingley St Ives Golf Club - ECPv6.15.11//NONSGML v1.0//EN
CALSCALE:GREGORIAN
METHOD:PUBLISH
X-ORIGINAL-URL:https://bingleystivesgc.com
X-WR-CALDESC:Events for Bingley St Ives Golf Club
REFRESH-INTERVAL;VALUE=DURATION:PT1H
X-Robots-Tag:noindex
X-PUBLISHED-TTL:PT1H
BEGIN:VTIMEZONE
TZID:UTC
BEGIN:STANDARD
TZOFFSETFROM:+0000
TZOFFSETTO:+0000
TZNAME:UTC
DTSTART:20200101T000000
END:STANDARD
END:VTIMEZONE
BEGIN:VEVENT
DTSTART;TZID=UTC:20210528T103000
DTEND;TZID=UTC:20210528T120000
DTSTAMP:20260423T011354
CREATED:20210519T064346Z
LAST-MODIFIED:20210519T064346Z
UID:4007-1622197800-1622203200@bingleystivesgc.com
SUMMARY:VP Hazel Grove Golf Club
DESCRIPTION:
URL:https://bingleystivesgc.com/event/vp-hazel-grove-golf-club/
CATEGORIES:Golf
END:VEVENT
BEGIN:VEVENT
DTSTART;TZID=UTC:20210528T140000
DTEND;TZID=UTC:20210528T150000
DTSTAMP:20260423T011354
CREATED:20210218T111336Z
LAST-MODIFIED:20210218T111336Z
UID:3343-1622210400-1622214000@bingleystivesgc.com
SUMMARY:Ladies Scratch v Ilkley
DESCRIPTION:
URL:https://bingleystivesgc.com/event/ladies-scratch-v-ilkley/
CATEGORIES:Golf
END:VEVENT
END:VCALENDAR