BEGIN:VCALENDAR
VERSION:2.0
PRODID:-//Bingley St Ives Golf Club - ECPv6.15.11//NONSGML v1.0//EN
CALSCALE:GREGORIAN
METHOD:PUBLISH
X-WR-CALNAME:Bingley St Ives Golf Club
X-ORIGINAL-URL:https://bingleystivesgc.com
X-WR-CALDESC:Events for Bingley St Ives Golf Club
REFRESH-INTERVAL;VALUE=DURATION:PT1H
X-Robots-Tag:noindex
X-PUBLISHED-TTL:PT1H
BEGIN:VTIMEZONE
TZID:UTC
BEGIN:STANDARD
TZOFFSETFROM:+0000
TZOFFSETTO:+0000
TZNAME:UTC
DTSTART:20200101T000000
END:STANDARD
END:VTIMEZONE
BEGIN:VEVENT
DTSTART;TZID=UTC:20210604T170000
DTEND;TZID=UTC:20210604T170000
DTSTAMP:20260423T010628
CREATED:20210430T133701Z
LAST-MODIFIED:20210430T133739Z
UID:3745-1622826000-1622826000@bingleystivesgc.com
SUMMARY:Gents Scratch v Cleckheaton
DESCRIPTION:
URL:https://bingleystivesgc.com/event/gents-scratch-v-cleckheaton/
CATEGORIES:Golf
END:VEVENT
BEGIN:VEVENT
DTSTART;TZID=UTC:20210604T173000
DTEND;TZID=UTC:20210604T180000
DTSTAMP:20260423T010628
CREATED:20210507T153051Z
LAST-MODIFIED:20210507T153051Z
UID:3951-1622827800-1622829600@bingleystivesgc.com
SUMMARY:8-15 Team v Baildon
DESCRIPTION:
URL:https://bingleystivesgc.com/event/8-15-team-v-baildon/
CATEGORIES:Golf
END:VEVENT
END:VCALENDAR