BEGIN:VCALENDAR
VERSION:2.0
PRODID:-//Bingley St Ives Golf Club - ECPv6.15.11//NONSGML v1.0//EN
CALSCALE:GREGORIAN
METHOD:PUBLISH
X-ORIGINAL-URL:https://bingleystivesgc.com
X-WR-CALDESC:Events for Bingley St Ives Golf Club
REFRESH-INTERVAL;VALUE=DURATION:PT1H
X-Robots-Tag:noindex
X-PUBLISHED-TTL:PT1H
BEGIN:VTIMEZONE
TZID:UTC
BEGIN:STANDARD
TZOFFSETFROM:+0000
TZOFFSETTO:+0000
TZNAME:UTC
DTSTART:20200101T000000
END:STANDARD
END:VTIMEZONE
BEGIN:VEVENT
DTSTART;VALUE=DATE:20210605
DTEND;VALUE=DATE:20210606
DTSTAMP:20260423T011358
CREATED:20210430T133921Z
LAST-MODIFIED:20210430T133921Z
UID:3747-1622851200-1622937599@bingleystivesgc.com
SUMMARY:June Medal & Wilf Race
DESCRIPTION:
URL:https://bingleystivesgc.com/event/june-medal-wilf-race/
CATEGORIES:Golf
END:VEVENT
BEGIN:VEVENT
DTSTART;VALUE=DATE:20210605
DTEND;VALUE=DATE:20210606
DTSTAMP:20260423T011358
CREATED:20210430T134111Z
LAST-MODIFIED:20210430T134111Z
UID:3749-1622851200-1622937599@bingleystivesgc.com
SUMMARY:Junior Scratch / Nett Trophies
DESCRIPTION:
URL:https://bingleystivesgc.com/event/junior-scratch-nett-trophies/
CATEGORIES:Golf
END:VEVENT
BEGIN:VEVENT
DTSTART;TZID=UTC:20210605T150000
DTEND;TZID=UTC:20210605T153000
DTSTAMP:20260423T011358
CREATED:20210430T134200Z
LAST-MODIFIED:20210430T134200Z
UID:3751-1622905200-1622907000@bingleystivesgc.com
SUMMARY:Ladies ADP v Woodhall Hills
DESCRIPTION:
URL:https://bingleystivesgc.com/event/ladies-adp-v-woodhall-hills-2/
CATEGORIES:Golf
END:VEVENT
BEGIN:VEVENT
DTSTART;TZID=UTC:20210605T193000
DTEND;TZID=UTC:20210605T193000
DTSTAMP:20260423T011358
CREATED:20210519T064724Z
LAST-MODIFIED:20210519T064724Z
UID:4011-1622921400-1622921400@bingleystivesgc.com
SUMMARY:Members Christmas Evening Meal
DESCRIPTION:
URL:https://bingleystivesgc.com/event/members-christmas-evening-meal/
CATEGORIES:Social
END:VEVENT
END:VCALENDAR