BEGIN:VCALENDAR
VERSION:2.0
PRODID:-//Bingley St Ives Golf Club - ECPv6.15.11//NONSGML v1.0//EN
CALSCALE:GREGORIAN
METHOD:PUBLISH
X-ORIGINAL-URL:https://bingleystivesgc.com
X-WR-CALDESC:Events for Bingley St Ives Golf Club
REFRESH-INTERVAL;VALUE=DURATION:PT1H
X-Robots-Tag:noindex
X-PUBLISHED-TTL:PT1H
BEGIN:VTIMEZONE
TZID:UTC
BEGIN:STANDARD
TZOFFSETFROM:+0000
TZOFFSETTO:+0000
TZNAME:UTC
DTSTART:20200101T000000
END:STANDARD
END:VTIMEZONE
BEGIN:VEVENT
DTSTART;VALUE=DATE:20210606
DTEND;VALUE=DATE:20210607
DTSTAMP:20260423T011403
CREATED:20210430T134249Z
LAST-MODIFIED:20210430T134249Z
UID:3753-1622937600-1623023999@bingleystivesgc.com
SUMMARY:Sunday Stableford
DESCRIPTION:
URL:https://bingleystivesgc.com/event/sunday-stableford-5/
CATEGORIES:Golf
END:VEVENT
BEGIN:VEVENT
DTSTART;TZID=UTC:20210606T103000
DTEND;TZID=UTC:20210606T123000
DTSTAMP:20260423T011403
CREATED:20210430T134351Z
LAST-MODIFIED:20210430T134351Z
UID:3755-1622975400-1622982600@bingleystivesgc.com
SUMMARY:Ladies June Medal &PAM's Twos
DESCRIPTION:
URL:https://bingleystivesgc.com/event/ladies-june-medal-pams-twos/
CATEGORIES:Golf
END:VEVENT
BEGIN:VEVENT
DTSTART;TZID=UTC:20210606T133000
DTEND;TZID=UTC:20210606T140000
DTSTAMP:20260423T011403
CREATED:20210519T064822Z
LAST-MODIFIED:20210519T064822Z
UID:4013-1622986200-1622988000@bingleystivesgc.com
SUMMARY:VP Rudkin
DESCRIPTION:
URL:https://bingleystivesgc.com/event/vp-rudkin/
CATEGORIES:Golf
END:VEVENT
END:VCALENDAR