BEGIN:VCALENDAR
VERSION:2.0
PRODID:-//Bingley St Ives Golf Club - ECPv6.15.11//NONSGML v1.0//EN
CALSCALE:GREGORIAN
METHOD:PUBLISH
X-ORIGINAL-URL:https://bingleystivesgc.com
X-WR-CALDESC:Events for Bingley St Ives Golf Club
REFRESH-INTERVAL;VALUE=DURATION:PT1H
X-Robots-Tag:noindex
X-PUBLISHED-TTL:PT1H
BEGIN:VTIMEZONE
TZID:UTC
BEGIN:STANDARD
TZOFFSETFROM:+0000
TZOFFSETTO:+0000
TZNAME:UTC
DTSTART:20200101T000000
END:STANDARD
END:VTIMEZONE
BEGIN:VEVENT
DTSTART;VALUE=DATE:20210612
DTEND;VALUE=DATE:20210613
DTSTAMP:20260423T061033
CREATED:20210430T135100Z
LAST-MODIFIED:20210430T135100Z
UID:3767-1623456000-1623542399@bingleystivesgc.com
SUMMARY:Mr Presidents Day
DESCRIPTION:
URL:https://bingleystivesgc.com/event/mr-presidents-day-3/
CATEGORIES:Golf
END:VEVENT
BEGIN:VEVENT
DTSTART;TZID=UTC:20210612T150000
DTEND;TZID=UTC:20210612T153000
DTSTAMP:20260423T061033
CREATED:20210430T135147Z
LAST-MODIFIED:20210430T135147Z
UID:3769-1623510000-1623511800@bingleystivesgc.com
SUMMARY:Ladies ADP v Skipton
DESCRIPTION:
URL:https://bingleystivesgc.com/event/ladies-adp-v-skipton-2/
CATEGORIES:Golf
END:VEVENT
BEGIN:VEVENT
DTSTART;TZID=UTC:20210612T193000
DTEND;TZID=UTC:20210612T223000
DTSTAMP:20260423T061033
CREATED:20210519T065126Z
LAST-MODIFIED:20210519T065126Z
UID:4017-1623526200-1623537000@bingleystivesgc.com
SUMMARY:Club Quiz
DESCRIPTION:
URL:https://bingleystivesgc.com/event/club-quiz-2/
CATEGORIES:Social
END:VEVENT
END:VCALENDAR