BEGIN:VCALENDAR
VERSION:2.0
PRODID:-//Bingley St Ives Golf Club - ECPv6.15.11//NONSGML v1.0//EN
CALSCALE:GREGORIAN
METHOD:PUBLISH
X-WR-CALNAME:Bingley St Ives Golf Club
X-ORIGINAL-URL:https://bingleystivesgc.com
X-WR-CALDESC:Events for Bingley St Ives Golf Club
REFRESH-INTERVAL;VALUE=DURATION:PT1H
X-Robots-Tag:noindex
X-PUBLISHED-TTL:PT1H
BEGIN:VTIMEZONE
TZID:UTC
BEGIN:STANDARD
TZOFFSETFROM:+0000
TZOFFSETTO:+0000
TZNAME:UTC
DTSTART:20200101T000000
END:STANDARD
END:VTIMEZONE
BEGIN:VEVENT
DTSTART;VALUE=DATE:20210615
DTEND;VALUE=DATE:20210616
DTSTAMP:20260423T060602
CREATED:20210430T135316Z
LAST-MODIFIED:20210430T143722Z
UID:3773-1623715200-1623801599@bingleystivesgc.com
SUMMARY:Midweek Stableford
DESCRIPTION:
URL:https://bingleystivesgc.com/event/ladies-priestley-cup/
CATEGORIES:Golf
END:VEVENT
BEGIN:VEVENT
DTSTART;TZID=UTC:20210615T080000
DTEND;TZID=UTC:20210615T120000
DTSTAMP:20260423T060602
CREATED:20210519T065326Z
LAST-MODIFIED:20210519T065326Z
UID:4021-1623744000-1623758400@bingleystivesgc.com
SUMMARY:VP The Chafe Classic
DESCRIPTION:
URL:https://bingleystivesgc.com/event/vp-the-chafe-classic/
CATEGORIES:Golf
END:VEVENT
END:VCALENDAR