BEGIN:VCALENDAR
VERSION:2.0
PRODID:-//Bingley St Ives Golf Club - ECPv6.15.11//NONSGML v1.0//EN
CALSCALE:GREGORIAN
METHOD:PUBLISH
X-ORIGINAL-URL:https://bingleystivesgc.com
X-WR-CALDESC:Events for Bingley St Ives Golf Club
REFRESH-INTERVAL;VALUE=DURATION:PT1H
X-Robots-Tag:noindex
X-PUBLISHED-TTL:PT1H
BEGIN:VTIMEZONE
TZID:UTC
BEGIN:STANDARD
TZOFFSETFROM:+0000
TZOFFSETTO:+0000
TZNAME:UTC
DTSTART:20200101T000000
END:STANDARD
END:VTIMEZONE
BEGIN:VEVENT
DTSTART;TZID=UTC:20210624T080000
DTEND;TZID=UTC:20210624T170000
DTSTAMP:20260423T061036
CREATED:20210303T125730Z
LAST-MODIFIED:20210303T125730Z
UID:3360-1624521600-1624554000@bingleystivesgc.com
SUMMARY:YRGA Thornton Trophy at Harrogate GC
DESCRIPTION:
URL:https://bingleystivesgc.com/event/yrga-thornton-trophy-at-harrogate-gc/
CATEGORIES:Golf
END:VEVENT
BEGIN:VEVENT
DTSTART;TZID=UTC:20210624T100000
DTEND;TZID=UTC:20210624T110000
DTSTAMP:20260423T061036
CREATED:20210421T075211Z
LAST-MODIFIED:20210421T075211Z
UID:3647-1624528800-1624532400@bingleystivesgc.com
SUMMARY:Seniors V Keighley
DESCRIPTION:
URL:https://bingleystivesgc.com/event/seniors-v-keighley/
CATEGORIES:Golf
END:VEVENT
BEGIN:VEVENT
DTSTART;TZID=UTC:20210624T130000
DTEND;TZID=UTC:20210624T140000
DTSTAMP:20260423T061036
CREATED:20210430T150615Z
LAST-MODIFIED:20210430T150615Z
UID:3789-1624539600-1624543200@bingleystivesgc.com
SUMMARY:Ladies B v Shipley
DESCRIPTION:
URL:https://bingleystivesgc.com/event/ladies-b-v-shipley/
CATEGORIES:Golf
END:VEVENT
BEGIN:VEVENT
DTSTART;TZID=UTC:20210624T163000
DTEND;TZID=UTC:20210624T170000
DTSTAMP:20260423T061036
CREATED:20210303T125307Z
LAST-MODIFIED:20210303T125307Z
UID:3358-1624552200-1624554000@bingleystivesgc.com
SUMMARY:Rabbits v Woodhall Hills
DESCRIPTION:
URL:https://bingleystivesgc.com/event/rabbits-v-woodhall-hills/
CATEGORIES:Golf
END:VEVENT
END:VCALENDAR