BEGIN:VCALENDAR
VERSION:2.0
PRODID:-//Bingley St Ives Golf Club - ECPv6.15.11//NONSGML v1.0//EN
CALSCALE:GREGORIAN
METHOD:PUBLISH
X-ORIGINAL-URL:https://bingleystivesgc.com
X-WR-CALDESC:Events for Bingley St Ives Golf Club
REFRESH-INTERVAL;VALUE=DURATION:PT1H
X-Robots-Tag:noindex
X-PUBLISHED-TTL:PT1H
BEGIN:VTIMEZONE
TZID:UTC
BEGIN:STANDARD
TZOFFSETFROM:+0000
TZOFFSETTO:+0000
TZNAME:UTC
DTSTART:20200101T000000
END:STANDARD
END:VTIMEZONE
BEGIN:VEVENT
DTSTART;TZID=UTC:20210708T130000
DTEND;TZID=UTC:20210708T140000
DTSTAMP:20260423T112433
CREATED:20210430T153408Z
LAST-MODIFIED:20210430T153408Z
UID:3841-1625749200-1625752800@bingleystivesgc.com
SUMMARY:Ladies Scratch v Keighley
DESCRIPTION:
URL:https://bingleystivesgc.com/event/ladies-scratch-v-keighley/
CATEGORIES:Golf
END:VEVENT
BEGIN:VEVENT
DTSTART;TZID=UTC:20210708T170000
DTEND;TZID=UTC:20210708T170000
DTSTAMP:20260423T112433
CREATED:20210217T094246Z
LAST-MODIFIED:20210217T094303Z
UID:3270-1625763600-1625763600@bingleystivesgc.com
SUMMARY:Rabbits at home to Bracken Ghyll
DESCRIPTION:
URL:https://bingleystivesgc.com/event/rabbits-at-home-to-bracken-ghyll/
CATEGORIES:Golf
END:VEVENT
END:VCALENDAR