BEGIN:VCALENDAR
VERSION:2.0
PRODID:-//Bingley St Ives Golf Club - ECPv6.15.11//NONSGML v1.0//EN
CALSCALE:GREGORIAN
METHOD:PUBLISH
X-ORIGINAL-URL:https://bingleystivesgc.com
X-WR-CALDESC:Events for Bingley St Ives Golf Club
REFRESH-INTERVAL;VALUE=DURATION:PT1H
X-Robots-Tag:noindex
X-PUBLISHED-TTL:PT1H
BEGIN:VTIMEZONE
TZID:UTC
BEGIN:STANDARD
TZOFFSETFROM:+0000
TZOFFSETTO:+0000
TZNAME:UTC
DTSTART:20200101T000000
END:STANDARD
END:VTIMEZONE
BEGIN:VEVENT
DTSTART;VALUE=DATE:20210718
DTEND;VALUE=DATE:20210719
DTSTAMP:20260421T075558
CREATED:20210216T145432Z
LAST-MODIFIED:20210216T145432Z
UID:3245-1626566400-1626652799@bingleystivesgc.com
SUMMARY:Rabbits O'Melia Challenge
DESCRIPTION:
URL:https://bingleystivesgc.com/event/rabbits-omelia-challenge/
CATEGORIES:Golf
END:VEVENT
BEGIN:VEVENT
DTSTART;TZID=UTC:20210718T103000
DTEND;TZID=UTC:20210718T123000
DTSTAMP:20260421T075558
CREATED:20210430T153718Z
LAST-MODIFIED:20210430T153718Z
UID:3849-1626604200-1626611400@bingleystivesgc.com
SUMMARY:Ladies Scratch & Net trophies
DESCRIPTION:
URL:https://bingleystivesgc.com/event/ladies-scratch-net-trophies/
CATEGORIES:Golf
END:VEVENT
BEGIN:VEVENT
DTSTART;TZID=UTC:20210718T130000
DTEND;TZID=UTC:20210718T140000
DTSTAMP:20260421T075558
CREATED:20210706T152435Z
LAST-MODIFIED:20210706T152435Z
UID:4063-1626613200-1626616800@bingleystivesgc.com
SUMMARY:Steve Elkins GS
DESCRIPTION:20 players
URL:https://bingleystivesgc.com/event/steve-elkins-gs/
CATEGORIES:Golf
END:VEVENT
END:VCALENDAR