BEGIN:VCALENDAR
VERSION:2.0
PRODID:-//Bingley St Ives Golf Club - ECPv6.15.11//NONSGML v1.0//EN
CALSCALE:GREGORIAN
METHOD:PUBLISH
X-WR-CALNAME:Bingley St Ives Golf Club
X-ORIGINAL-URL:https://bingleystivesgc.com
X-WR-CALDESC:Events for Bingley St Ives Golf Club
REFRESH-INTERVAL;VALUE=DURATION:PT1H
X-Robots-Tag:noindex
X-PUBLISHED-TTL:PT1H
BEGIN:VTIMEZONE
TZID:UTC
BEGIN:STANDARD
TZOFFSETFROM:+0000
TZOFFSETTO:+0000
TZNAME:UTC
DTSTART:20200101T000000
END:STANDARD
END:VTIMEZONE
BEGIN:VEVENT
DTSTART;TZID=UTC:20210719T100000
DTEND;TZID=UTC:20210719T120000
DTSTAMP:20260423T001156
CREATED:20210430T153820Z
LAST-MODIFIED:20210430T153820Z
UID:3851-1626688800-1626696000@bingleystivesgc.com
SUMMARY:Seniors Exchange with Wortley GC
DESCRIPTION:
URL:https://bingleystivesgc.com/event/seniors-exchange-with-wortley-gc/
CATEGORIES:Golf
END:VEVENT
BEGIN:VEVENT
DTSTART;TZID=UTC:20210719T113000
DTEND;TZID=UTC:20210719T150000
DTSTAMP:20260423T001156
CREATED:20210706T152747Z
LAST-MODIFIED:20210706T152747Z
UID:4065-1626694200-1626706800@bingleystivesgc.com
SUMMARY:Private Funeral
DESCRIPTION:30 people
URL:https://bingleystivesgc.com/event/private-funeral/
CATEGORIES:Funeral
END:VEVENT
END:VCALENDAR