BEGIN:VCALENDAR
VERSION:2.0
PRODID:-//Bingley St Ives Golf Club - ECPv6.15.11//NONSGML v1.0//EN
CALSCALE:GREGORIAN
METHOD:PUBLISH
X-WR-CALNAME:Bingley St Ives Golf Club
X-ORIGINAL-URL:https://bingleystivesgc.com
X-WR-CALDESC:Events for Bingley St Ives Golf Club
REFRESH-INTERVAL;VALUE=DURATION:PT1H
X-Robots-Tag:noindex
X-PUBLISHED-TTL:PT1H
BEGIN:VTIMEZONE
TZID:UTC
BEGIN:STANDARD
TZOFFSETFROM:+0000
TZOFFSETTO:+0000
TZNAME:UTC
DTSTART:20200101T000000
END:STANDARD
END:VTIMEZONE
BEGIN:VEVENT
DTSTART;VALUE=DATE:20210724
DTEND;VALUE=DATE:20210725
DTSTAMP:20260423T112049
CREATED:20210430T151757Z
LAST-MODIFIED:20210430T151757Z
UID:3807-1627084800-1627171199@bingleystivesgc.com
SUMMARY:Officers Trophy & Single Stableford
DESCRIPTION:
URL:https://bingleystivesgc.com/event/officers-trophy-single-stableford/
CATEGORIES:Golf
END:VEVENT
BEGIN:VEVENT
DTSTART;TZID=UTC:20210724T143000
DTEND;TZID=UTC:20210724T233000
DTSTAMP:20260423T112049
CREATED:20210706T153309Z
LAST-MODIFIED:20210706T153309Z
UID:4071-1627137000-1627169400@bingleystivesgc.com
SUMMARY:Wedding - Private party
DESCRIPTION:72 day guest \n110 evening guests
URL:https://bingleystivesgc.com/event/wedding-private-party/
CATEGORIES:Private Event
END:VEVENT
END:VCALENDAR