BEGIN:VCALENDAR
VERSION:2.0
PRODID:-//Bingley St Ives Golf Club - ECPv6.15.11//NONSGML v1.0//EN
CALSCALE:GREGORIAN
METHOD:PUBLISH
X-ORIGINAL-URL:https://bingleystivesgc.com
X-WR-CALDESC:Events for Bingley St Ives Golf Club
REFRESH-INTERVAL;VALUE=DURATION:PT1H
X-Robots-Tag:noindex
X-PUBLISHED-TTL:PT1H
BEGIN:VTIMEZONE
TZID:UTC
BEGIN:STANDARD
TZOFFSETFROM:+0000
TZOFFSETTO:+0000
TZNAME:UTC
DTSTART:20200101T000000
END:STANDARD
END:VTIMEZONE
BEGIN:VEVENT
DTSTART;TZID=UTC:20210726T100000
DTEND;TZID=UTC:20210726T133000
DTSTAMP:20260423T160722
CREATED:20210430T154313Z
LAST-MODIFIED:20210430T154313Z
UID:3863-1627293600-1627306200@bingleystivesgc.com
SUMMARY:YLVGA Championships
DESCRIPTION:
URL:https://bingleystivesgc.com/event/ylvga-championships/
CATEGORIES:Golf
END:VEVENT
END:VCALENDAR