BEGIN:VCALENDAR
VERSION:2.0
PRODID:-//Bingley St Ives Golf Club - ECPv6.15.11//NONSGML v1.0//EN
CALSCALE:GREGORIAN
METHOD:PUBLISH
X-ORIGINAL-URL:https://bingleystivesgc.com
X-WR-CALDESC:Events for Bingley St Ives Golf Club
REFRESH-INTERVAL;VALUE=DURATION:PT1H
X-Robots-Tag:noindex
X-PUBLISHED-TTL:PT1H
BEGIN:VTIMEZONE
TZID:UTC
BEGIN:STANDARD
TZOFFSETFROM:+0000
TZOFFSETTO:+0000
TZNAME:UTC
DTSTART:20200101T000000
END:STANDARD
END:VTIMEZONE
BEGIN:VEVENT
DTSTART;VALUE=DATE:20210729
DTEND;VALUE=DATE:20210730
DTSTAMP:20260421T062247
CREATED:20210430T154422Z
LAST-MODIFIED:20210430T154422Z
UID:3867-1627516800-1627603199@bingleystivesgc.com
SUMMARY:Seniors Captain Trophy
DESCRIPTION:
URL:https://bingleystivesgc.com/event/seniors-captain-trophy/
CATEGORIES:Golf
END:VEVENT
BEGIN:VEVENT
DTSTART;TZID=UTC:20210729T170000
DTEND;TZID=UTC:20210729T170000
DTSTAMP:20260421T062247
CREATED:20210217T094542Z
LAST-MODIFIED:20210217T094542Z
UID:3276-1627578000-1627578000@bingleystivesgc.com
SUMMARY:Rabbits at home to East Bierley
DESCRIPTION:
URL:https://bingleystivesgc.com/event/rabbits-at-home-to-east-bierley/
CATEGORIES:Golf
END:VEVENT
END:VCALENDAR