BEGIN:VCALENDAR
VERSION:2.0
PRODID:-//Bingley St Ives Golf Club - ECPv6.15.11//NONSGML v1.0//EN
CALSCALE:GREGORIAN
METHOD:PUBLISH
X-ORIGINAL-URL:https://bingleystivesgc.com
X-WR-CALDESC:Events for Bingley St Ives Golf Club
REFRESH-INTERVAL;VALUE=DURATION:PT1H
X-Robots-Tag:noindex
X-PUBLISHED-TTL:PT1H
BEGIN:VTIMEZONE
TZID:UTC
BEGIN:STANDARD
TZOFFSETFROM:+0000
TZOFFSETTO:+0000
TZNAME:UTC
DTSTART:20200101T000000
END:STANDARD
END:VTIMEZONE
BEGIN:VEVENT
DTSTART;VALUE=DATE:20210730
DTEND;VALUE=DATE:20210731
DTSTAMP:20260421T064333
CREATED:20210303T130942Z
LAST-MODIFIED:20210303T131323Z
UID:3366-1627603200-1627689599@bingleystivesgc.com
SUMMARY:Rabbits from Harrogate
DESCRIPTION:
URL:https://bingleystivesgc.com/event/rabbits-from-harrogate/
CATEGORIES:Golf
END:VEVENT
BEGIN:VEVENT
DTSTART;TZID=UTC:20210730T153000
DTEND;TZID=UTC:20210730T170000
DTSTAMP:20260421T064333
CREATED:20210430T154451Z
LAST-MODIFIED:20210430T154451Z
UID:3869-1627659000-1627664400@bingleystivesgc.com
SUMMARY:Foster Cup
DESCRIPTION:
URL:https://bingleystivesgc.com/event/foster-cup-2/
CATEGORIES:Golf
END:VEVENT
BEGIN:VEVENT
DTSTART;TZID=UTC:20210730T170000
DTEND;TZID=UTC:20210730T173000
DTSTAMP:20260421T064333
CREATED:20210507T153637Z
LAST-MODIFIED:20210507T153637Z
UID:3959-1627664400-1627666200@bingleystivesgc.com
SUMMARY:8-15 Team v Keighley
DESCRIPTION:
URL:https://bingleystivesgc.com/event/8-15-team-v-keighley/
CATEGORIES:Golf
END:VEVENT
END:VCALENDAR