BEGIN:VCALENDAR
VERSION:2.0
PRODID:-//Bingley St Ives Golf Club - ECPv6.15.11//NONSGML v1.0//EN
CALSCALE:GREGORIAN
METHOD:PUBLISH
X-ORIGINAL-URL:https://bingleystivesgc.com
X-WR-CALDESC:Events for Bingley St Ives Golf Club
REFRESH-INTERVAL;VALUE=DURATION:PT1H
X-Robots-Tag:noindex
X-PUBLISHED-TTL:PT1H
BEGIN:VTIMEZONE
TZID:UTC
BEGIN:STANDARD
TZOFFSETFROM:+0000
TZOFFSETTO:+0000
TZNAME:UTC
DTSTART:20200101T000000
END:STANDARD
END:VTIMEZONE
BEGIN:VEVENT
DTSTART;VALUE=DATE:20210817
DTEND;VALUE=DATE:20210818
DTSTAMP:20260423T000435
CREATED:20210430T193054Z
LAST-MODIFIED:20210430T193119Z
UID:3893-1629158400-1629244799@bingleystivesgc.com
SUMMARY:Midweek Stableford
DESCRIPTION:
URL:https://bingleystivesgc.com/event/midweek-stableford-5/
CATEGORIES:Golf
END:VEVENT
BEGIN:VEVENT
DTSTART;TZID=UTC:20210817T143000
DTEND;TZID=UTC:20210817T153000
DTSTAMP:20260423T000435
CREATED:20210610T140957Z
LAST-MODIFIED:20210610T140957Z
UID:4045-1629210600-1629214200@bingleystivesgc.com
SUMMARY:Bingley Rabbits v Bradford Rabbits
DESCRIPTION:
URL:https://bingleystivesgc.com/event/bingley-rabbits-v-bradford-rabbits/
CATEGORIES:Golf
END:VEVENT
END:VCALENDAR