BEGIN:VCALENDAR
VERSION:2.0
PRODID:-//Bingley St Ives Golf Club - ECPv6.15.11//NONSGML v1.0//EN
CALSCALE:GREGORIAN
METHOD:PUBLISH
X-ORIGINAL-URL:https://bingleystivesgc.com
X-WR-CALDESC:Events for Bingley St Ives Golf Club
REFRESH-INTERVAL;VALUE=DURATION:PT1H
X-Robots-Tag:noindex
X-PUBLISHED-TTL:PT1H
BEGIN:VTIMEZONE
TZID:UTC
BEGIN:STANDARD
TZOFFSETFROM:+0000
TZOFFSETTO:+0000
TZNAME:UTC
DTSTART:20200101T000000
END:STANDARD
END:VTIMEZONE
BEGIN:VEVENT
DTSTART;VALUE=DATE:20210822
DTEND;VALUE=DATE:20210823
DTSTAMP:20260423T160741
CREATED:20210216T145559Z
LAST-MODIFIED:20210216T145559Z
UID:3249-1629590400-1629676799@bingleystivesgc.com
SUMMARY:Rabbits Presidents Day
DESCRIPTION:
URL:https://bingleystivesgc.com/event/rabbits-presidents-day-2/
CATEGORIES:Golf
END:VEVENT
BEGIN:VEVENT
DTSTART;TZID=UTC:20210822T103000
DTEND;TZID=UTC:20210822T123000
DTSTAMP:20260423T160741
CREATED:20210430T193244Z
LAST-MODIFIED:20210430T193244Z
UID:3897-1629628200-1629635400@bingleystivesgc.com
SUMMARY:Ladies August Medal & Past Captains Cup
DESCRIPTION:
URL:https://bingleystivesgc.com/event/ladies-august-medal-past-captains-cup/
END:VEVENT
END:VCALENDAR