BEGIN:VCALENDAR
VERSION:2.0
PRODID:-//Bingley St Ives Golf Club - ECPv6.15.11//NONSGML v1.0//EN
CALSCALE:GREGORIAN
METHOD:PUBLISH
X-WR-CALNAME:Bingley St Ives Golf Club
X-ORIGINAL-URL:https://bingleystivesgc.com
X-WR-CALDESC:Events for Bingley St Ives Golf Club
REFRESH-INTERVAL;VALUE=DURATION:PT1H
X-Robots-Tag:noindex
X-PUBLISHED-TTL:PT1H
BEGIN:VTIMEZONE
TZID:UTC
BEGIN:STANDARD
TZOFFSETFROM:+0000
TZOFFSETTO:+0000
TZNAME:UTC
DTSTART:20200101T000000
END:STANDARD
END:VTIMEZONE
BEGIN:VEVENT
DTSTART;VALUE=DATE:20210829
DTEND;VALUE=DATE:20210830
DTSTAMP:20260423T160324
CREATED:20210430T193459Z
LAST-MODIFIED:20210430T193459Z
UID:3905-1630195200-1630281599@bingleystivesgc.com
SUMMARY:Sunday Stableford
DESCRIPTION:
URL:https://bingleystivesgc.com/event/sunday-stableford-8/
CATEGORIES:Golf
END:VEVENT
BEGIN:VEVENT
DTSTART;TZID=UTC:20210829T103000
DTEND;TZID=UTC:20210829T123000
DTSTAMP:20260423T160324
CREATED:20210430T193432Z
LAST-MODIFIED:20210430T193432Z
UID:3903-1630233000-1630240200@bingleystivesgc.com
SUMMARY:Ladies Barker Bogey
DESCRIPTION:
URL:https://bingleystivesgc.com/event/ladies-barker-bogey/
CATEGORIES:Golf
END:VEVENT
END:VCALENDAR