BEGIN:VCALENDAR
VERSION:2.0
PRODID:-//Bingley St Ives Golf Club - ECPv6.15.11//NONSGML v1.0//EN
CALSCALE:GREGORIAN
METHOD:PUBLISH
X-ORIGINAL-URL:https://bingleystivesgc.com
X-WR-CALDESC:Events for Bingley St Ives Golf Club
REFRESH-INTERVAL;VALUE=DURATION:PT1H
X-Robots-Tag:noindex
X-PUBLISHED-TTL:PT1H
BEGIN:VTIMEZONE
TZID:UTC
BEGIN:STANDARD
TZOFFSETFROM:+0000
TZOFFSETTO:+0000
TZNAME:UTC
DTSTART:20200101T000000
END:STANDARD
END:VTIMEZONE
BEGIN:VEVENT
DTSTART;VALUE=DATE:20210905
DTEND;VALUE=DATE:20210906
DTSTAMP:20260419T114103
CREATED:20210501T073452Z
LAST-MODIFIED:20210501T073452Z
UID:3912-1630800000-1630886399@bingleystivesgc.com
SUMMARY:Sunday Medal
DESCRIPTION:
URL:https://bingleystivesgc.com/event/sunday-medal-4/
CATEGORIES:Golf
END:VEVENT
BEGIN:VEVENT
DTSTART;TZID=UTC:20210905T103000
DTEND;TZID=UTC:20210905T123000
DTSTAMP:20260419T114103
CREATED:20210501T073830Z
LAST-MODIFIED:20210501T073830Z
UID:3914-1630837800-1630845000@bingleystivesgc.com
SUMMARY:Ladies Medal
DESCRIPTION:
URL:https://bingleystivesgc.com/event/ladies-medal/
CATEGORIES:Golf
END:VEVENT
END:VCALENDAR