BEGIN:VCALENDAR
VERSION:2.0
PRODID:-//Bingley St Ives Golf Club - ECPv6.15.11//NONSGML v1.0//EN
CALSCALE:GREGORIAN
METHOD:PUBLISH
X-WR-CALNAME:Bingley St Ives Golf Club
X-ORIGINAL-URL:https://bingleystivesgc.com
X-WR-CALDESC:Events for Bingley St Ives Golf Club
REFRESH-INTERVAL;VALUE=DURATION:PT1H
X-Robots-Tag:noindex
X-PUBLISHED-TTL:PT1H
BEGIN:VTIMEZONE
TZID:UTC
BEGIN:STANDARD
TZOFFSETFROM:+0000
TZOFFSETTO:+0000
TZNAME:UTC
DTSTART:20200101T000000
END:STANDARD
END:VTIMEZONE
BEGIN:VEVENT
DTSTART;VALUE=DATE:20210912
DTEND;VALUE=DATE:20210913
DTSTAMP:20260419T115054
CREATED:20210501T074028Z
LAST-MODIFIED:20210501T074028Z
UID:3920-1631404800-1631491199@bingleystivesgc.com
SUMMARY:Sunday Stableford
DESCRIPTION:
URL:https://bingleystivesgc.com/event/sunday-stableford-9/
CATEGORIES:Golf
END:VEVENT
BEGIN:VEVENT
DTSTART;TZID=UTC:20210912T103000
DTEND;TZID=UTC:20210912T123000
DTSTAMP:20260419T115054
CREATED:20210501T074307Z
LAST-MODIFIED:20210501T074307Z
UID:3922-1631442600-1631449800@bingleystivesgc.com
SUMMARY:Ladies - Mrs Lund Stableford
DESCRIPTION:
URL:https://bingleystivesgc.com/event/ladies-mrs-lund-stableford/
CATEGORIES:Golf
END:VEVENT
END:VCALENDAR