BEGIN:VCALENDAR
VERSION:2.0
PRODID:-//Bingley St Ives Golf Club - ECPv6.15.11//NONSGML v1.0//EN
CALSCALE:GREGORIAN
METHOD:PUBLISH
X-ORIGINAL-URL:https://bingleystivesgc.com
X-WR-CALDESC:Events for Bingley St Ives Golf Club
REFRESH-INTERVAL;VALUE=DURATION:PT1H
X-Robots-Tag:noindex
X-PUBLISHED-TTL:PT1H
BEGIN:VTIMEZONE
TZID:UTC
BEGIN:STANDARD
TZOFFSETFROM:+0000
TZOFFSETTO:+0000
TZNAME:UTC
DTSTART:20200101T000000
END:STANDARD
END:VTIMEZONE
BEGIN:VEVENT
DTSTART;VALUE=DATE:20210930
DTEND;VALUE=DATE:20211001
DTSTAMP:20260418T061957
CREATED:20210420T072534Z
LAST-MODIFIED:20210420T072534Z
UID:3645-1632960000-1633046399@bingleystivesgc.com
SUMMARY:Seniors Invitation Day
DESCRIPTION:Seniors Invitation Day is an all day event
URL:https://bingleystivesgc.com/event/seniors-invitation-day-2/
CATEGORIES:Golf
END:VEVENT
END:VCALENDAR