BEGIN:VCALENDAR
VERSION:2.0
PRODID:-//Bingley St Ives Golf Club - ECPv6.15.11//NONSGML v1.0//EN
CALSCALE:GREGORIAN
METHOD:PUBLISH
X-ORIGINAL-URL:https://bingleystivesgc.com
X-WR-CALDESC:Events for Bingley St Ives Golf Club
REFRESH-INTERVAL;VALUE=DURATION:PT1H
X-Robots-Tag:noindex
X-PUBLISHED-TTL:PT1H
BEGIN:VTIMEZONE
TZID:UTC
BEGIN:STANDARD
TZOFFSETFROM:+0000
TZOFFSETTO:+0000
TZNAME:UTC
DTSTART:20210101T000000
END:STANDARD
END:VTIMEZONE
BEGIN:VEVENT
DTSTART;TZID=UTC:20220216T110000
DTEND;TZID=UTC:20220216T113000
DTSTAMP:20260425T222812
CREATED:20220216T081259Z
LAST-MODIFIED:20220216T081259Z
UID:4833-1645009200-1645011000@bingleystivesgc.com
SUMMARY:Visiting Party
DESCRIPTION:VP x 12 11am
URL:https://bingleystivesgc.com/event/visiting-party-38/
CATEGORIES:Golf
END:VEVENT
BEGIN:VEVENT
DTSTART;TZID=UTC:20220216T183000
DTEND;TZID=UTC:20220216T230000
DTSTAMP:20260425T222812
CREATED:20220112T090209Z
LAST-MODIFIED:20220112T090209Z
UID:4713-1645036200-1645052400@bingleystivesgc.com
SUMMARY:Club Quiz
DESCRIPTION:Food from 7pm – Quiz at 8pm – £7.50pp
URL:https://bingleystivesgc.com/event/club-quiz-3/
CATEGORIES:Social
END:VEVENT
END:VCALENDAR