BEGIN:VCALENDAR
VERSION:2.0
PRODID:-//Bingley St Ives Golf Club - ECPv6.15.11//NONSGML v1.0//EN
CALSCALE:GREGORIAN
METHOD:PUBLISH
X-ORIGINAL-URL:https://bingleystivesgc.com
X-WR-CALDESC:Events for Bingley St Ives Golf Club
REFRESH-INTERVAL;VALUE=DURATION:PT1H
X-Robots-Tag:noindex
X-PUBLISHED-TTL:PT1H
BEGIN:VTIMEZONE
TZID:UTC
BEGIN:STANDARD
TZOFFSETFROM:+0000
TZOFFSETTO:+0000
TZNAME:UTC
DTSTART:20210101T000000
END:STANDARD
END:VTIMEZONE
BEGIN:VEVENT
DTSTART;VALUE=DATE:20220402
DTEND;VALUE=DATE:20220403
DTSTAMP:20260423T195139
CREATED:20220113T180828Z
LAST-MODIFIED:20220113T180828Z
UID:4741-1648857600-1648943999@bingleystivesgc.com
SUMMARY:Stableford
DESCRIPTION:
URL:https://bingleystivesgc.com/event/stableford-3/
CATEGORIES:Golf
END:VEVENT
BEGIN:VEVENT
DTSTART;TZID=UTC:20220402T183000
DTEND;TZID=UTC:20220402T233000
DTSTAMP:20260423T195139
CREATED:20220203T093326Z
LAST-MODIFIED:20220203T093326Z
UID:4808-1648924200-1648942200@bingleystivesgc.com
SUMMARY:Private Event
DESCRIPTION:60th birthday
URL:https://bingleystivesgc.com/event/private-event-59/
CATEGORIES:Private Event
END:VEVENT
END:VCALENDAR