BEGIN:VCALENDAR
VERSION:2.0
PRODID:-//Bingley St Ives Golf Club - ECPv6.15.11//NONSGML v1.0//EN
CALSCALE:GREGORIAN
METHOD:PUBLISH
X-ORIGINAL-URL:https://bingleystivesgc.com
X-WR-CALDESC:Events for Bingley St Ives Golf Club
REFRESH-INTERVAL;VALUE=DURATION:PT1H
X-Robots-Tag:noindex
X-PUBLISHED-TTL:PT1H
BEGIN:VTIMEZONE
TZID:UTC
BEGIN:STANDARD
TZOFFSETFROM:+0000
TZOFFSETTO:+0000
TZNAME:UTC
DTSTART:20240101T000000
END:STANDARD
END:VTIMEZONE
BEGIN:VEVENT
DTSTART;TZID=UTC:20250416T100000
DTEND;TZID=UTC:20250416T110000
DTSTAMP:20260419T160658
CREATED:20250307T073448Z
LAST-MODIFIED:20250307T073448Z
UID:8768-1744797600-1744801200@bingleystivesgc.com
SUMMARY:Visiting Party
DESCRIPTION:Ben Rhddying GC – Seniors
URL:https://bingleystivesgc.com/event/visiting-party-275/
CATEGORIES:Golf
END:VEVENT
BEGIN:VEVENT
DTSTART;TZID=UTC:20250416T110000
DTEND;TZID=UTC:20250416T120000
DTSTAMP:20260419T160658
CREATED:20250307T073545Z
LAST-MODIFIED:20250307T073545Z
UID:8770-1744801200-1744804800@bingleystivesgc.com
SUMMARY:Visiting Party
DESCRIPTION:Workspace Recruitment x 28
URL:https://bingleystivesgc.com/event/visiting-party-276/
CATEGORIES:Golf
END:VEVENT
BEGIN:VEVENT
DTSTART;TZID=UTC:20250416T190000
DTEND;TZID=UTC:20250416T210000
DTSTAMP:20260419T160658
CREATED:20250307T073628Z
LAST-MODIFIED:20250307T073628Z
UID:8772-1744830000-1744837200@bingleystivesgc.com
SUMMARY:Ladies Section Rules Night
DESCRIPTION:30 people plus
URL:https://bingleystivesgc.com/event/ladies-section-rules-night/
CATEGORIES:Meeting
END:VEVENT
END:VCALENDAR