BEGIN:VCALENDAR
VERSION:2.0
PRODID:-//Bingley St Ives Golf Club - ECPv6.15.11//NONSGML v1.0//EN
CALSCALE:GREGORIAN
METHOD:PUBLISH
X-ORIGINAL-URL:https://bingleystivesgc.com
X-WR-CALDESC:Events for Bingley St Ives Golf Club
REFRESH-INTERVAL;VALUE=DURATION:PT1H
X-Robots-Tag:noindex
X-PUBLISHED-TTL:PT1H
BEGIN:VTIMEZONE
TZID:UTC
BEGIN:STANDARD
TZOFFSETFROM:+0000
TZOFFSETTO:+0000
TZNAME:UTC
DTSTART:20250101T000000
END:STANDARD
END:VTIMEZONE
BEGIN:VEVENT
DTSTART;TZID=UTC:20260104T080000
DTEND;TZID=UTC:20260104T170000
DTSTAMP:20260425T033151
CREATED:20251204T125431Z
LAST-MODIFIED:20251204T125431Z
UID:9702-1767513600-1767546000@bingleystivesgc.com
SUMMARY:Winter Grand Prix
DESCRIPTION:Winter Grand Prix
URL:https://bingleystivesgc.com/event/winter-grand-prix-65/
CATEGORIES:Golf
END:VEVENT
BEGIN:VEVENT
DTSTART;TZID=UTC:20260104T080000
DTEND;TZID=UTC:20260104T170000
DTSTAMP:20260425T033151
CREATED:20251204T125500Z
LAST-MODIFIED:20251204T125500Z
UID:9704-1767513600-1767546000@bingleystivesgc.com
SUMMARY:Ladies Competition
DESCRIPTION:Ladies Competition
URL:https://bingleystivesgc.com/event/ladies-competition-8/
CATEGORIES:Golf
END:VEVENT
END:VCALENDAR