BEGIN:VCALENDAR
VERSION:2.0
PRODID:-//Bingley St Ives Golf Club - ECPv6.15.11//NONSGML v1.0//EN
CALSCALE:GREGORIAN
METHOD:PUBLISH
X-WR-CALNAME:Bingley St Ives Golf Club
X-ORIGINAL-URL:https://bingleystivesgc.com
X-WR-CALDESC:Events for Bingley St Ives Golf Club
REFRESH-INTERVAL;VALUE=DURATION:PT1H
X-Robots-Tag:noindex
X-PUBLISHED-TTL:PT1H
BEGIN:VTIMEZONE
TZID:UTC
BEGIN:STANDARD
TZOFFSETFROM:+0000
TZOFFSETTO:+0000
TZNAME:UTC
DTSTART:20250101T000000
END:STANDARD
END:VTIMEZONE
BEGIN:VEVENT
DTSTART;TZID=UTC:20260201T080000
DTEND;TZID=UTC:20260201T170000
DTSTAMP:20260425T033011
CREATED:20251204T141326Z
LAST-MODIFIED:20251204T141326Z
UID:9728-1769932800-1769965200@bingleystivesgc.com
SUMMARY:Winter Grand Prix
DESCRIPTION:Winter Grand Prix
URL:https://bingleystivesgc.com/event/winter-grand-prix-69/
CATEGORIES:Golf
END:VEVENT
BEGIN:VEVENT
DTSTART;TZID=UTC:20260201T080000
DTEND;TZID=UTC:20260201T170000
DTSTAMP:20260425T033011
CREATED:20251204T141441Z
LAST-MODIFIED:20251204T141441Z
UID:9730-1769932800-1769965200@bingleystivesgc.com
SUMMARY:Ladies Competition
DESCRIPTION:Ladies Competition
URL:https://bingleystivesgc.com/event/ladies-competition-12/
CATEGORIES:Golf
END:VEVENT
END:VCALENDAR