BEGIN:VCALENDAR
VERSION:2.0
PRODID:-//Bingley St Ives Golf Club - ECPv6.15.11//NONSGML v1.0//EN
CALSCALE:GREGORIAN
METHOD:PUBLISH
X-WR-CALNAME:Bingley St Ives Golf Club
X-ORIGINAL-URL:https://bingleystivesgc.com
X-WR-CALDESC:Events for Bingley St Ives Golf Club
REFRESH-INTERVAL;VALUE=DURATION:PT1H
X-Robots-Tag:noindex
X-PUBLISHED-TTL:PT1H
BEGIN:VTIMEZONE
TZID:UTC
BEGIN:STANDARD
TZOFFSETFROM:+0000
TZOFFSETTO:+0000
TZNAME:UTC
DTSTART:20250101T000000
END:STANDARD
END:VTIMEZONE
BEGIN:VEVENT
DTSTART;TZID=UTC:20260423T124000
DTEND;TZID=UTC:20260423T134000
DTSTAMP:20260423T053145
CREATED:20251014T093351Z
LAST-MODIFIED:20251014T093351Z
UID:9547-1776948000-1776951600@bingleystivesgc.com
SUMMARY:Ladies A Team v Waterton Park
DESCRIPTION:Ladies A Team v Waterton Park
URL:https://bingleystivesgc.com/event/ladies-a-team-v-waterton-park/
CATEGORIES:Golf
END:VEVENT
END:VCALENDAR