BEGIN:VCALENDAR
VERSION:2.0
PRODID:-//Bingley St Ives Golf Club - ECPv6.15.11//NONSGML v1.0//EN
CALSCALE:GREGORIAN
METHOD:PUBLISH
X-ORIGINAL-URL:https://bingleystivesgc.com
X-WR-CALDESC:Events for Bingley St Ives Golf Club
REFRESH-INTERVAL;VALUE=DURATION:PT1H
X-Robots-Tag:noindex
X-PUBLISHED-TTL:PT1H
BEGIN:VTIMEZONE
TZID:UTC
BEGIN:STANDARD
TZOFFSETFROM:+0000
TZOFFSETTO:+0000
TZNAME:UTC
DTSTART:20250101T000000
END:STANDARD
END:VTIMEZONE
BEGIN:VEVENT
DTSTART;TZID=UTC:20260526T080000
DTEND;TZID=UTC:20260526T170000
DTSTAMP:20260421T092134
CREATED:20251014T090513Z
LAST-MODIFIED:20251014T090513Z
UID:9532-1779782400-1779814800@bingleystivesgc.com
SUMMARY:Harry Caldicott Cup
DESCRIPTION:Harry Caldicott Cup
URL:https://bingleystivesgc.com/event/harry-caldicott-cup/
CATEGORIES:Golf
END:VEVENT
END:VCALENDAR