BEGIN:VCALENDAR
VERSION:2.0
PRODID:-//Bingley St Ives Golf Club - ECPv6.15.11//NONSGML v1.0//EN
CALSCALE:GREGORIAN
METHOD:PUBLISH
X-WR-CALNAME:Bingley St Ives Golf Club
X-ORIGINAL-URL:https://bingleystivesgc.com
X-WR-CALDESC:Events for Bingley St Ives Golf Club
REFRESH-INTERVAL;VALUE=DURATION:PT1H
X-Robots-Tag:noindex
X-PUBLISHED-TTL:PT1H
BEGIN:VTIMEZONE
TZID:UTC
BEGIN:STANDARD
TZOFFSETFROM:+0000
TZOFFSETTO:+0000
TZNAME:UTC
DTSTART:20250101T000000
END:STANDARD
END:VTIMEZONE
BEGIN:VEVENT
DTSTART;TZID=UTC:20260605T080000
DTEND;TZID=UTC:20260605T170000
DTSTAMP:20260425T014105
CREATED:20251014T091019Z
LAST-MODIFIED:20251014T091019Z
UID:9539-1780646400-1780678800@bingleystivesgc.com
SUMMARY:Gents Scratch v Bradford
DESCRIPTION:Gents Scratch v Bradford
URL:https://bingleystivesgc.com/event/gents-scratch-v-bradford-2/
CATEGORIES:Golf
END:VEVENT
END:VCALENDAR