BEGIN:VCALENDAR
VERSION:2.0
PRODID:-//Bingley St Ives Golf Club - ECPv6.15.11//NONSGML v1.0//EN
CALSCALE:GREGORIAN
METHOD:PUBLISH
X-ORIGINAL-URL:https://bingleystivesgc.com
X-WR-CALDESC:Events for Bingley St Ives Golf Club
REFRESH-INTERVAL;VALUE=DURATION:PT1H
X-Robots-Tag:noindex
X-PUBLISHED-TTL:PT1H
BEGIN:VTIMEZONE
TZID:UTC
BEGIN:STANDARD
TZOFFSETFROM:+0000
TZOFFSETTO:+0000
TZNAME:UTC
DTSTART:20250101T000000
END:STANDARD
END:VTIMEZONE
BEGIN:VEVENT
DTSTART;TZID=UTC:20260606T080000
DTEND;TZID=UTC:20260606T170000
DTSTAMP:20260425T014437
CREATED:20251014T091944Z
LAST-MODIFIED:20251014T091944Z
UID:9541-1780732800-1780765200@bingleystivesgc.com
SUMMARY:June Medal
DESCRIPTION:June Medal
URL:https://bingleystivesgc.com/event/june-medal-2/
CATEGORIES:Golf
END:VEVENT
BEGIN:VEVENT
DTSTART;TZID=UTC:20260606T143000
DTEND;TZID=UTC:20260606T151000
DTSTAMP:20260425T014437
CREATED:20251014T093644Z
LAST-MODIFIED:20251014T093644Z
UID:9551-1780756200-1780758600@bingleystivesgc.com
SUMMARY:Ladies Coronation Foursomes
DESCRIPTION:Ladies Coronation Foursomes
URL:https://bingleystivesgc.com/event/ladies-coronation-foursomes/
CATEGORIES:Golf
END:VEVENT
END:VCALENDAR