BEGIN:VCALENDAR
VERSION:2.0
PRODID:-//Bingley St Ives Golf Club - ECPv6.15.11//NONSGML v1.0//EN
CALSCALE:GREGORIAN
METHOD:PUBLISH
X-ORIGINAL-URL:https://bingleystivesgc.com
X-WR-CALDESC:Events for Bingley St Ives Golf Club
REFRESH-INTERVAL;VALUE=DURATION:PT1H
X-Robots-Tag:noindex
X-PUBLISHED-TTL:PT1H
BEGIN:VTIMEZONE
TZID:UTC
BEGIN:STANDARD
TZOFFSETFROM:+0000
TZOFFSETTO:+0000
TZNAME:UTC
DTSTART:20250101T000000
END:STANDARD
END:VTIMEZONE
BEGIN:VEVENT
DTSTART;TZID=UTC:20260611T124000
DTEND;TZID=UTC:20260611T134000
DTSTAMP:20260425T033208
CREATED:20251014T093844Z
LAST-MODIFIED:20251014T093844Z
UID:9553-1781181600-1781185200@bingleystivesgc.com
SUMMARY:Ladies A2 Team v Light Cliff
DESCRIPTION:Ladies A2 Team v Light Cliff
URL:https://bingleystivesgc.com/event/ladies-a2-team-v-light-cliff/
CATEGORIES:Golf
END:VEVENT
END:VCALENDAR