BEGIN:VCALENDAR
VERSION:2.0
PRODID:-//Bingley St Ives Golf Club - ECPv6.15.11//NONSGML v1.0//EN
CALSCALE:GREGORIAN
METHOD:PUBLISH
X-ORIGINAL-URL:https://bingleystivesgc.com
X-WR-CALDESC:Events for Bingley St Ives Golf Club
REFRESH-INTERVAL;VALUE=DURATION:PT1H
X-Robots-Tag:noindex
X-PUBLISHED-TTL:PT1H
BEGIN:VTIMEZONE
TZID:UTC
BEGIN:STANDARD
TZOFFSETFROM:+0000
TZOFFSETTO:+0000
TZNAME:UTC
DTSTART:20250101T000000
END:STANDARD
END:VTIMEZONE
BEGIN:VEVENT
DTSTART;TZID=UTC:20260613T080000
DTEND;TZID=UTC:20260613T170000
DTSTAMP:20260425T013317
CREATED:20251014T095742Z
LAST-MODIFIED:20251014T095742Z
UID:9563-1781337600-1781370000@bingleystivesgc.com
SUMMARY:Gents Invitation Day
DESCRIPTION:Gents Invitation Day
URL:https://bingleystivesgc.com/event/gents-invitation-day-11/
CATEGORIES:Golf
END:VEVENT
END:VCALENDAR