BEGIN:VCALENDAR
VERSION:2.0
PRODID:-//Bingley St Ives Golf Club - ECPv6.15.11//NONSGML v1.0//EN
CALSCALE:GREGORIAN
METHOD:PUBLISH
X-ORIGINAL-URL:https://bingleystivesgc.com
X-WR-CALDESC:Events for Bingley St Ives Golf Club
REFRESH-INTERVAL;VALUE=DURATION:PT1H
X-Robots-Tag:noindex
X-PUBLISHED-TTL:PT1H
BEGIN:VTIMEZONE
TZID:UTC
BEGIN:STANDARD
TZOFFSETFROM:+0000
TZOFFSETTO:+0000
TZNAME:UTC
DTSTART:20190101T000000
END:STANDARD
END:VTIMEZONE
BEGIN:VEVENT
DTSTART;TZID=UTC:20221129T133000
DTEND;TZID=UTC:20221129T153000
DTSTAMP:20260421T132127
CREATED:20221110T085705Z
LAST-MODIFIED:20221110T085705Z
UID:5534-1669728600-1669735800@bingleystivesgc.com
SUMMARY:Private Event
DESCRIPTION:Meeting booked for FOSI
URL:https://bingleystivesgc.com/event/private-event-71/
CATEGORIES:Meeting
END:VEVENT
BEGIN:VEVENT
DTSTART;TZID=UTC:20221127T153000
DTEND;TZID=UTC:20221127T170000
DTSTAMP:20260421T132127
CREATED:20220825T060252Z
LAST-MODIFIED:20221011T071828Z
UID:5255-1669563000-1669568400@bingleystivesgc.com
SUMMARY:Ladies AGM
DESCRIPTION:Lounge Closed from 3.30pm
URL:https://bingleystivesgc.com/event/ladies-agm-2/
CATEGORIES:Meeting
END:VEVENT
BEGIN:VEVENT
DTSTART;TZID=UTC:20221116T100000
DTEND;TZID=UTC:20221116T163000
DTSTAMP:20260421T132127
CREATED:20221011T071706Z
LAST-MODIFIED:20221011T071706Z
UID:5326-1668592800-1668616200@bingleystivesgc.com
SUMMARY:Private Training Day
DESCRIPTION:12 x Aireworth Vets
URL:https://bingleystivesgc.com/event/private-training-day-2/
CATEGORIES:Meeting
END:VEVENT
BEGIN:VEVENT
DTSTART;TZID=UTC:20221115T100000
DTEND;TZID=UTC:20221115T160000
DTSTAMP:20260421T132127
CREATED:20221011T071606Z
LAST-MODIFIED:20221011T071606Z
UID:5324-1668506400-1668528000@bingleystivesgc.com
SUMMARY:Private Training Day
DESCRIPTION:12 people – Aireworth Vets
URL:https://bingleystivesgc.com/event/private-training-day/
CATEGORIES:Meeting
END:VEVENT
BEGIN:VEVENT
DTSTART;TZID=UTC:20221101T120000
DTEND;TZID=UTC:20221101T143000
DTSTAMP:20260421T132127
CREATED:20221011T071253Z
LAST-MODIFIED:20221011T071253Z
UID:5320-1667304000-1667313000@bingleystivesgc.com
SUMMARY:Private Meeting
DESCRIPTION:Forestry Commission x 15
URL:https://bingleystivesgc.com/event/private-meeting/
CATEGORIES:Meeting
END:VEVENT
BEGIN:VEVENT
DTSTART;TZID=UTC:20221027T183000
DTEND;TZID=UTC:20221027T193000
DTSTAMP:20260421T132127
CREATED:20221027T141628Z
LAST-MODIFIED:20221027T141628Z
UID:5448-1666895400-1666899000@bingleystivesgc.com
SUMMARY:Meeting
DESCRIPTION:DP / JH / CO Meeting re: House
URL:https://bingleystivesgc.com/event/meeting/
CATEGORIES:Meeting
END:VEVENT
BEGIN:VEVENT
DTSTART;TZID=UTC:20221027T130000
DTEND;TZID=UTC:20221027T150000
DTSTAMP:20260421T132127
CREATED:20221024T141559Z
LAST-MODIFIED:20221024T141559Z
UID:5432-1666875600-1666882800@bingleystivesgc.com
SUMMARY:Seniors AGM
DESCRIPTION:Meeting
URL:https://bingleystivesgc.com/event/seniors-agm-2/
CATEGORIES:Meeting
END:VEVENT
BEGIN:VEVENT
DTSTART;TZID=UTC:20221025T193000
DTEND;TZID=UTC:20221025T210000
DTSTAMP:20260421T132127
CREATED:20220825T055446Z
LAST-MODIFIED:20220825T055446Z
UID:5244-1666726200-1666731600@bingleystivesgc.com
SUMMARY:AGM
DESCRIPTION:Annual General Meeting 7.30pm
URL:https://bingleystivesgc.com/event/agm-2/
CATEGORIES:Meeting
END:VEVENT
BEGIN:VEVENT
DTSTART;TZID=UTC:20221020T200000
DTEND;TZID=UTC:20221020T213000
DTSTAMP:20260421T132127
CREATED:20220221T170626Z
LAST-MODIFIED:20220221T170626Z
UID:4992-1666296000-1666301400@bingleystivesgc.com
SUMMARY:Rabbits Committee Meeting
DESCRIPTION:
URL:https://bingleystivesgc.com/event/rabbits-committee-meeting-8/
CATEGORIES:Meeting
END:VEVENT
BEGIN:VEVENT
DTSTART;TZID=UTC:20221020T183000
DTEND;TZID=UTC:20221020T193000
DTSTAMP:20260421T132127
CREATED:20221011T070523Z
LAST-MODIFIED:20221011T070523Z
UID:5313-1666290600-1666294200@bingleystivesgc.com
SUMMARY:Social Committee
DESCRIPTION:
URL:https://bingleystivesgc.com/event/social-committee/
CATEGORIES:Meeting
END:VEVENT
BEGIN:VEVENT
DTSTART;TZID=UTC:20220908T200000
DTEND;TZID=UTC:20220908T220000
DTSTAMP:20260421T132127
CREATED:20220221T165635Z
LAST-MODIFIED:20220221T165635Z
UID:4982-1662667200-1662674400@bingleystivesgc.com
SUMMARY:Rabbits Committee Meeting
DESCRIPTION:
URL:https://bingleystivesgc.com/event/rabbits-committee-meeting-7/
CATEGORIES:Meeting
END:VEVENT
BEGIN:VEVENT
DTSTART;TZID=UTC:20220818T183000
DTEND;TZID=UTC:20220818T193000
DTSTAMP:20260421T132127
CREATED:20220720T072834Z
LAST-MODIFIED:20220720T072834Z
UID:5183-1660847400-1660851000@bingleystivesgc.com
SUMMARY:Social Committee Meeting
DESCRIPTION:Meeting at 6.30pm
URL:https://bingleystivesgc.com/event/social-committee-meeting-2/
CATEGORIES:Meeting
END:VEVENT
BEGIN:VEVENT
DTSTART;TZID=UTC:20220811T200000
DTEND;TZID=UTC:20220811T220000
DTSTAMP:20260421T132127
CREATED:20220221T162221Z
LAST-MODIFIED:20220221T162221Z
UID:4959-1660248000-1660255200@bingleystivesgc.com
SUMMARY:Rabbits Committee Meeting
DESCRIPTION:
URL:https://bingleystivesgc.com/event/rabbits-committee-meeting-6/
CATEGORIES:Meeting
END:VEVENT
BEGIN:VEVENT
DTSTART;TZID=UTC:20220714T200000
DTEND;TZID=UTC:20220714T220000
DTSTAMP:20260421T132127
CREATED:20220221T154129Z
LAST-MODIFIED:20220221T154129Z
UID:4938-1657828800-1657836000@bingleystivesgc.com
SUMMARY:Rabbits Committee Meeting
DESCRIPTION:
URL:https://bingleystivesgc.com/event/rabbits-committee-meeting-5/
CATEGORIES:Meeting
END:VEVENT
BEGIN:VEVENT
DTSTART;TZID=UTC:20220628T183000
DTEND;TZID=UTC:20220628T200000
DTSTAMP:20260421T132127
CREATED:20220221T151038Z
LAST-MODIFIED:20220516T075003Z
UID:4914-1656441000-1656446400@bingleystivesgc.com
SUMMARY:Rabbits Committee Meeting
DESCRIPTION:
URL:https://bingleystivesgc.com/event/rabbits-committee-meeting-4/
CATEGORIES:Meeting
END:VEVENT
BEGIN:VEVENT
DTSTART;TZID=UTC:20220510T183000
DTEND;TZID=UTC:20220510T193000
DTSTAMP:20260421T132127
CREATED:20220221T134650Z
LAST-MODIFIED:20220221T134650Z
UID:4869-1652207400-1652211000@bingleystivesgc.com
SUMMARY:Rabbits Committee Meeting
DESCRIPTION:
URL:https://bingleystivesgc.com/event/rabbits-committee-meeting-3/
CATEGORIES:Meeting
END:VEVENT
BEGIN:VEVENT
DTSTART;TZID=UTC:20220414T180000
DTEND;TZID=UTC:20220414T190000
DTSTAMP:20260421T132127
CREATED:20220311T080416Z
LAST-MODIFIED:20220311T080416Z
UID:5055-1649959200-1649962800@bingleystivesgc.com
SUMMARY:Social Committee Meeting
DESCRIPTION:
URL:https://bingleystivesgc.com/event/social-committee-meeting/
CATEGORIES:Meeting
END:VEVENT
BEGIN:VEVENT
DTSTART;TZID=UTC:20220407T200000
DTEND;TZID=UTC:20220407T220000
DTSTAMP:20260421T132127
CREATED:20220311T080308Z
LAST-MODIFIED:20220311T080308Z
UID:5053-1649361600-1649368800@bingleystivesgc.com
SUMMARY:Rabbits Committee Meeting
DESCRIPTION:
URL:https://bingleystivesgc.com/event/rabbits-committee-meeting-10/
CATEGORIES:Meeting
END:VEVENT
BEGIN:VEVENT
DTSTART;TZID=UTC:20220330T183000
DTEND;TZID=UTC:20220330T203000
DTSTAMP:20260421T132127
CREATED:20220311T080200Z
LAST-MODIFIED:20220311T080200Z
UID:5051-1648665000-1648672200@bingleystivesgc.com
SUMMARY:Rabbits New Members Evening
DESCRIPTION:
URL:https://bingleystivesgc.com/event/rabbits-new-members-evening/
CATEGORIES:Meeting
END:VEVENT
BEGIN:VEVENT
DTSTART;TZID=UTC:20220322T183000
DTEND;TZID=UTC:20220322T203000
DTSTAMP:20260421T132127
CREATED:20220216T081728Z
LAST-MODIFIED:20220216T081728Z
UID:4839-1647973800-1647981000@bingleystivesgc.com
SUMMARY:Ladies Rules Evening
DESCRIPTION:Ladies Section 6.30pm x 20
URL:https://bingleystivesgc.com/event/ladies-rules-evening/
CATEGORIES:Meeting
END:VEVENT
BEGIN:VEVENT
DTSTART;TZID=UTC:20220218T200000
DTEND;TZID=UTC:20220218T200000
DTSTAMP:20260421T132127
CREATED:20220210T075353Z
LAST-MODIFIED:20220210T075353Z
UID:4815-1645214400-1645214400@bingleystivesgc.com
SUMMARY:Rabbits Committee Meeting
DESCRIPTION:
URL:https://bingleystivesgc.com/event/rabbits-committee-meeting-2/
CATEGORIES:Meeting
END:VEVENT
BEGIN:VEVENT
DTSTART;TZID=UTC:20211121T160000
DTEND;TZID=UTC:20211121T183000
DTSTAMP:20260421T132127
CREATED:20211005T140932Z
LAST-MODIFIED:20211005T140932Z
UID:4155-1637510400-1637519400@bingleystivesgc.com
SUMMARY:Ladies AGM
DESCRIPTION:
URL:https://bingleystivesgc.com/event/ladies-agm/
CATEGORIES:Meeting
END:VEVENT
BEGIN:VEVENT
DTSTART;TZID=UTC:20211012T130000
DTEND;TZID=UTC:20211012T150000
DTSTAMP:20260421T132127
CREATED:20211005T135556Z
LAST-MODIFIED:20211005T135556Z
UID:4117-1634043600-1634050800@bingleystivesgc.com
SUMMARY:Seniors AGM
DESCRIPTION:
URL:https://bingleystivesgc.com/event/seniors-agm/
CATEGORIES:Meeting
END:VEVENT
BEGIN:VEVENT
DTSTART;TZID=UTC:20210803T190000
DTEND;TZID=UTC:20210803T203000
DTSTAMP:20260421T132127
CREATED:20210430T153542Z
LAST-MODIFIED:20210706T145944Z
UID:3845-1628017200-1628022600@bingleystivesgc.com
SUMMARY:AGM
DESCRIPTION:
URL:https://bingleystivesgc.com/event/agm/
CATEGORIES:Meeting
END:VEVENT
BEGIN:VEVENT
DTSTART;TZID=UTC:20210524T190000
DTEND;TZID=UTC:20210524T220000
DTSTAMP:20260421T132127
CREATED:20210519T063845Z
LAST-MODIFIED:20210519T063845Z
UID:4000-1621882800-1621893600@bingleystivesgc.com
SUMMARY:Board Meeting
DESCRIPTION:
URL:https://bingleystivesgc.com/event/board-meeting/
CATEGORIES:Meeting
END:VEVENT
BEGIN:VEVENT
DTSTART;TZID=UTC:20210520T200000
DTEND;TZID=UTC:20210520T200000
DTSTAMP:20260421T132127
CREATED:20210519T063806Z
LAST-MODIFIED:20210519T063806Z
UID:3998-1621540800-1621540800@bingleystivesgc.com
SUMMARY:Rabbits Committee Meeting
DESCRIPTION:
URL:https://bingleystivesgc.com/event/rabbits-committee-meeting/
CATEGORIES:Meeting
END:VEVENT
BEGIN:VEVENT
DTSTART;TZID=UTC:20200324T190000
DTEND;TZID=UTC:20200324T190000
DTSTAMP:20260421T132127
CREATED:20200309T155802Z
LAST-MODIFIED:20200309T155802Z
UID:2539-1585076400-1585076400@bingleystivesgc.com
SUMMARY:England Golf Presentation 7pm
DESCRIPTION:Clubhouse Lounge
URL:https://bingleystivesgc.com/event/england-golf-presentation-7pm/
CATEGORIES:Meeting
END:VEVENT
BEGIN:VEVENT
DTSTART;TZID=UTC:20200324T113000
DTEND;TZID=UTC:20200324T133000
DTSTAMP:20260421T132127
CREATED:20200309T155653Z
LAST-MODIFIED:20200309T155653Z
UID:2537-1585049400-1585056600@bingleystivesgc.com
SUMMARY:Intelligent Golf Presentation AM
DESCRIPTION:
URL:https://bingleystivesgc.com/event/intelligent-golf-presentation-am/
CATEGORIES:Meeting
END:VEVENT
BEGIN:VEVENT
DTSTART;TZID=UTC:20200318T140000
DTEND;TZID=UTC:20200318T160000
DTSTAMP:20260421T132127
CREATED:20200218T080513Z
LAST-MODIFIED:20200218T080513Z
UID:1874-1584540000-1584547200@bingleystivesgc.com
SUMMARY:Stakeholder Meeting
DESCRIPTION:St Ives Heritage Committee – Boardroom
URL:https://bingleystivesgc.com/event/stakeholder-meeting/
CATEGORIES:Meeting
END:VEVENT
BEGIN:VEVENT
DTSTART;TZID=UTC:20200312T183000
DTEND;TZID=UTC:20200312T183000
DTSTAMP:20260421T132127
CREATED:20200309T155129Z
LAST-MODIFIED:20200309T155129Z
UID:2531-1584037800-1584037800@bingleystivesgc.com
SUMMARY:Social Committee Meeting - 6.30pm
DESCRIPTION:Boardroom 6.30pm
URL:https://bingleystivesgc.com/event/social-committee-meeting-6-30pm/
CATEGORIES:Meeting
END:VEVENT
END:VCALENDAR