BEGIN:VCALENDAR
VERSION:2.0
PRODID:-//Bingley St Ives Golf Club - ECPv6.15.11//NONSGML v1.0//EN
CALSCALE:GREGORIAN
METHOD:PUBLISH
X-ORIGINAL-URL:https://bingleystivesgc.com
X-WR-CALDESC:Events for Bingley St Ives Golf Club
REFRESH-INTERVAL;VALUE=DURATION:PT1H
X-Robots-Tag:noindex
X-PUBLISHED-TTL:PT1H
BEGIN:VTIMEZONE
TZID:UTC
BEGIN:STANDARD
TZOFFSETFROM:+0000
TZOFFSETTO:+0000
TZNAME:UTC
DTSTART:20220101T000000
END:STANDARD
END:VTIMEZONE
BEGIN:VEVENT
DTSTART;TZID=UTC:20231111T180000
DTEND;TZID=UTC:20231111T233000
DTSTAMP:20260423T012116
CREATED:20221230T091531Z
LAST-MODIFIED:20221230T091531Z
UID:6125-1699725600-1699745400@bingleystivesgc.com
SUMMARY:Harden Cricket Club Dinner
DESCRIPTION:
URL:https://bingleystivesgc.com/event/harden-cricket-club-dinner/
CATEGORIES:Private Event
END:VEVENT
BEGIN:VEVENT
DTSTART;TZID=UTC:20231103T180000
DTEND;TZID=UTC:20231103T233000
DTSTAMP:20260423T012116
CREATED:20231102T081136Z
LAST-MODIFIED:20231102T081136Z
UID:6930-1699034400-1699054200@bingleystivesgc.com
SUMMARY:Cullingworth Bowling Club
DESCRIPTION:x 40
URL:https://bingleystivesgc.com/event/cullingworth-bowling-club/
CATEGORIES:Private Event
END:VEVENT
BEGIN:VEVENT
DTSTART;TZID=UTC:20231028T183000
DTEND;TZID=UTC:20231028T233000
DTSTAMP:20260423T012116
CREATED:20231005T092305Z
LAST-MODIFIED:20231005T092305Z
UID:6579-1698517800-1698535800@bingleystivesgc.com
SUMMARY:Private Event
DESCRIPTION:Dinner – Aireworth RC
URL:https://bingleystivesgc.com/event/private-event-156/
CATEGORIES:Private Event
END:VEVENT
BEGIN:VEVENT
DTSTART;TZID=UTC:20231023T183000
DTEND;TZID=UTC:20231023T233000
DTSTAMP:20260423T012116
CREATED:20231023T152822Z
LAST-MODIFIED:20231023T152822Z
UID:6697-1698085800-1698103800@bingleystivesgc.com
SUMMARY:Private Event
DESCRIPTION:Dinner
URL:https://bingleystivesgc.com/event/private-event-172/
CATEGORIES:Private Event
END:VEVENT
BEGIN:VEVENT
DTSTART;TZID=UTC:20231021T180000
DTEND;TZID=UTC:20231021T233000
DTSTAMP:20260423T012116
CREATED:20221118T140552Z
LAST-MODIFIED:20221118T140552Z
UID:5967-1697911200-1697931000@bingleystivesgc.com
SUMMARY:Private Event
DESCRIPTION:Wedding
URL:https://bingleystivesgc.com/event/private-event-121/
CATEGORIES:Private Event
END:VEVENT
BEGIN:VEVENT
DTSTART;TZID=UTC:20231007T190000
DTEND;TZID=UTC:20231007T233000
DTSTAMP:20260423T012116
CREATED:20230823T064208Z
LAST-MODIFIED:20230823T064208Z
UID:6539-1696705200-1696721400@bingleystivesgc.com
SUMMARY:Private Event
DESCRIPTION:G&S Dinner x 40
URL:https://bingleystivesgc.com/event/private-event-148/
CATEGORIES:Private Event
END:VEVENT
BEGIN:VEVENT
DTSTART;TZID=UTC:20231007T120000
DTEND;TZID=UTC:20231007T163000
DTSTAMP:20260423T012116
CREATED:20230823T064059Z
LAST-MODIFIED:20230823T064059Z
UID:6537-1696680000-1696696200@bingleystivesgc.com
SUMMARY:Private Event
DESCRIPTION:90th Birthday Lunch x 50
URL:https://bingleystivesgc.com/event/private-event-147/
CATEGORIES:Private Event
END:VEVENT
BEGIN:VEVENT
DTSTART;TZID=UTC:20231004T190000
DTEND;TZID=UTC:20231004T223000
DTSTAMP:20260423T012116
CREATED:20230823T063535Z
LAST-MODIFIED:20230823T063535Z
UID:6529-1696446000-1696458600@bingleystivesgc.com
SUMMARY:Private Event
DESCRIPTION:M&S Group x 40 – Dinner
URL:https://bingleystivesgc.com/event/private-event-146/
CATEGORIES:Private Event
END:VEVENT
BEGIN:VEVENT
DTSTART;TZID=UTC:20231004T120000
DTEND;TZID=UTC:20231004T153000
DTSTAMP:20260423T012116
CREATED:20230823T063416Z
LAST-MODIFIED:20230823T063416Z
UID:6527-1696420800-1696433400@bingleystivesgc.com
SUMMARY:Private Event
DESCRIPTION:Flower Club Dinner x 60
URL:https://bingleystivesgc.com/event/private-event-145/
CATEGORIES:Private Event
END:VEVENT
BEGIN:VEVENT
DTSTART;TZID=UTC:20230930T190000
DTEND;TZID=UTC:20230930T233000
DTSTAMP:20260423T012116
CREATED:20230713T065303Z
LAST-MODIFIED:20230713T065303Z
UID:6477-1696100400-1696116600@bingleystivesgc.com
SUMMARY:Private Event
DESCRIPTION:80th Birthday x 50
URL:https://bingleystivesgc.com/event/private-event-140/
CATEGORIES:Private Event
END:VEVENT
BEGIN:VEVENT
DTSTART;TZID=UTC:20230929T190000
DTEND;TZID=UTC:20230929T233000
DTSTAMP:20260423T012116
CREATED:20230713T065107Z
LAST-MODIFIED:20230713T065107Z
UID:6475-1696014000-1696030200@bingleystivesgc.com
SUMMARY:Private Event
DESCRIPTION:Harden Childrens Gala x 50
URL:https://bingleystivesgc.com/event/private-event-139/
CATEGORIES:Private Event
END:VEVENT
BEGIN:VEVENT
DTSTART;TZID=UTC:20230916T183000
DTEND;TZID=UTC:20230916T233000
DTSTAMP:20260423T012116
CREATED:20221118T140501Z
LAST-MODIFIED:20221118T140501Z
UID:5965-1694889000-1694907000@bingleystivesgc.com
SUMMARY:Private Event
DESCRIPTION:Wedding anniversay
URL:https://bingleystivesgc.com/event/private-event-120/
CATEGORIES:Private Event
END:VEVENT
BEGIN:VEVENT
DTSTART;TZID=UTC:20230902T183000
DTEND;TZID=UTC:20230902T233000
DTSTAMP:20260423T012116
CREATED:20221230T094512Z
LAST-MODIFIED:20221230T094512Z
UID:6135-1693679400-1693697400@bingleystivesgc.com
SUMMARY:Private Event
DESCRIPTION:Tony Bairstow Party
URL:https://bingleystivesgc.com/event/private-event-117/
CATEGORIES:Private Event
END:VEVENT
BEGIN:VEVENT
DTSTART;TZID=UTC:20230825T190000
DTEND;TZID=UTC:20230825T230000
DTSTAMP:20260423T012116
CREATED:20230712T070630Z
LAST-MODIFIED:20230712T070630Z
UID:6450-1692990000-1693004400@bingleystivesgc.com
SUMMARY:Private Event
DESCRIPTION:Members meal x 30
URL:https://bingleystivesgc.com/event/private-event-138/
CATEGORIES:Private Event
END:VEVENT
BEGIN:VEVENT
DTSTART;TZID=UTC:20230818T190000
DTEND;TZID=UTC:20230818T233000
DTSTAMP:20260423T012116
CREATED:20230712T065829Z
LAST-MODIFIED:20230712T065829Z
UID:6442-1692385200-1692401400@bingleystivesgc.com
SUMMARY:Private Event
DESCRIPTION:21st Birthday Party
URL:https://bingleystivesgc.com/event/private-event-137/
CATEGORIES:Private Event
END:VEVENT
BEGIN:VEVENT
DTSTART;TZID=UTC:20230805T120000
DTEND;TZID=UTC:20230805T170000
DTSTAMP:20260423T012116
CREATED:20230712T065027Z
LAST-MODIFIED:20230712T065027Z
UID:6431-1691236800-1691254800@bingleystivesgc.com
SUMMARY:Private Event
DESCRIPTION:Wedding Anniversaty x 90
URL:https://bingleystivesgc.com/event/private-event-136/
CATEGORIES:Private Event
END:VEVENT
BEGIN:VEVENT
DTSTART;TZID=UTC:20230729T183000
DTEND;TZID=UTC:20230729T233000
DTSTAMP:20260423T012116
CREATED:20230712T064507Z
LAST-MODIFIED:20230712T064507Z
UID:6425-1690655400-1690673400@bingleystivesgc.com
SUMMARY:Private Event
DESCRIPTION:Wedding Evening Do x 100
URL:https://bingleystivesgc.com/event/private-event-135/
CATEGORIES:Private Event
END:VEVENT
BEGIN:VEVENT
DTSTART;TZID=UTC:20230722T130000
DTEND;TZID=UTC:20230722T233000
DTSTAMP:20260423T012116
CREATED:20221118T140140Z
LAST-MODIFIED:20221118T140140Z
UID:5960-1690030800-1690068600@bingleystivesgc.com
SUMMARY:Private Event
DESCRIPTION:Wedding – Dyson
URL:https://bingleystivesgc.com/event/private-event-118/
CATEGORIES:Private Event
END:VEVENT
BEGIN:VEVENT
DTSTART;TZID=UTC:20230720T150000
DTEND;TZID=UTC:20230720T180000
DTSTAMP:20260423T012116
CREATED:20230712T064004Z
LAST-MODIFIED:20230712T064004Z
UID:6421-1689865200-1689876000@bingleystivesgc.com
SUMMARY:Private Event
DESCRIPTION:Funeral x 60
URL:https://bingleystivesgc.com/event/private-event-134/
CATEGORIES:Private Event
END:VEVENT
BEGIN:VEVENT
DTSTART;TZID=UTC:20230715T190000
DTEND;TZID=UTC:20230715T233000
DTSTAMP:20260423T012116
CREATED:20230712T063516Z
LAST-MODIFIED:20230712T063540Z
UID:6414-1689447600-1689463800@bingleystivesgc.com
SUMMARY:Private Event
DESCRIPTION:60th Birthday Party
URL:https://bingleystivesgc.com/event/private-event-133/
CATEGORIES:Private Event
END:VEVENT
BEGIN:VEVENT
DTSTART;TZID=UTC:20230715T120000
DTEND;TZID=UTC:20230715T170000
DTSTAMP:20260423T012116
CREATED:20230712T063259Z
LAST-MODIFIED:20230712T063259Z
UID:6410-1689422400-1689440400@bingleystivesgc.com
SUMMARY:Private Event
DESCRIPTION:Celebration of life x 56
URL:https://bingleystivesgc.com/event/private-event-132/
CATEGORIES:Private Event
END:VEVENT
BEGIN:VEVENT
DTSTART;TZID=UTC:20230715T090000
DTEND;TZID=UTC:20230715T110000
DTSTAMP:20260423T012116
CREATED:20230712T063154Z
LAST-MODIFIED:20230712T063154Z
UID:6408-1689411600-1689418800@bingleystivesgc.com
SUMMARY:Private Event
DESCRIPTION:60th Morning Brunch x 20
URL:https://bingleystivesgc.com/event/private-event-131/
CATEGORIES:Private Event
END:VEVENT
BEGIN:VEVENT
DTSTART;TZID=UTC:20230624T170000
DTEND;TZID=UTC:20230624T233000
DTSTAMP:20260423T012116
CREATED:20221102T091822Z
LAST-MODIFIED:20221102T091822Z
UID:5467-1687626000-1687649400@bingleystivesgc.com
SUMMARY:Private Event
DESCRIPTION:Wedding – Bullock
URL:https://bingleystivesgc.com/event/private-event-114/
CATEGORIES:Private Event
END:VEVENT
BEGIN:VEVENT
DTSTART;TZID=UTC:20230621T083000
DTEND;TZID=UTC:20230621T143000
DTSTAMP:20260423T012116
CREATED:20230425T084318Z
LAST-MODIFIED:20230425T084318Z
UID:6353-1687336200-1687357800@bingleystivesgc.com
SUMMARY:Private Event
DESCRIPTION:NHS Airedale Foundation x 27
URL:https://bingleystivesgc.com/event/private-event-129/
CATEGORIES:Private Event
END:VEVENT
BEGIN:VEVENT
DTSTART;TZID=UTC:20230617T190000
DTEND;TZID=UTC:20230617T233000
DTSTAMP:20260423T012116
CREATED:20221017T142950Z
LAST-MODIFIED:20221017T142950Z
UID:5395-1687028400-1687044600@bingleystivesgc.com
SUMMARY:Private Event
DESCRIPTION:30th Birthday x 100
URL:https://bingleystivesgc.com/event/private-event-109/
CATEGORIES:Private Event
END:VEVENT
BEGIN:VEVENT
DTSTART;TZID=UTC:20230610T183000
DTEND;TZID=UTC:20230610T233000
DTSTAMP:20260423T012116
CREATED:20221024T143240Z
LAST-MODIFIED:20221024T143240Z
UID:5438-1686421800-1686439800@bingleystivesgc.com
SUMMARY:Private Event
DESCRIPTION:Birthday
URL:https://bingleystivesgc.com/event/private-event-113/
CATEGORIES:Private Event
END:VEVENT
BEGIN:VEVENT
DTSTART;TZID=UTC:20230604T160000
DTEND;TZID=UTC:20230604T170000
DTSTAMP:20260423T012116
CREATED:20230119T184248Z
LAST-MODIFIED:20230119T184248Z
UID:6197-1685894400-1685898000@bingleystivesgc.com
SUMMARY:Private Dinner
DESCRIPTION:June Holdsworth 90th
URL:https://bingleystivesgc.com/event/private-dinner-2/
CATEGORIES:Private Event
END:VEVENT
BEGIN:VEVENT
DTSTART;TZID=UTC:20230603T190000
DTEND;TZID=UTC:20230603T233000
DTSTAMP:20260423T012116
CREATED:20221017T142410Z
LAST-MODIFIED:20221017T142410Z
UID:5386-1685818800-1685835000@bingleystivesgc.com
SUMMARY:Private Event
DESCRIPTION:Wedding Anniversary x 80
URL:https://bingleystivesgc.com/event/private-event-108/
CATEGORIES:Private Event
END:VEVENT
BEGIN:VEVENT
DTSTART;TZID=UTC:20230527T183000
DTEND;TZID=UTC:20230527T233000
DTSTAMP:20260423T012116
CREATED:20221017T141350Z
LAST-MODIFIED:20221017T141350Z
UID:5380-1685212200-1685230200@bingleystivesgc.com
SUMMARY:Private Event
DESCRIPTION:40th Birthday x 80
URL:https://bingleystivesgc.com/event/private-event-107/
CATEGORIES:Private Event
END:VEVENT
BEGIN:VEVENT
DTSTART;TZID=UTC:20230520T140000
DTEND;TZID=UTC:20230520T233000
DTSTAMP:20260423T012116
CREATED:20221017T141049Z
LAST-MODIFIED:20221017T141049Z
UID:5376-1684591200-1684625400@bingleystivesgc.com
SUMMARY:Private Event
DESCRIPTION:Wedding – All day x 80
URL:https://bingleystivesgc.com/event/private-event-106/
CATEGORIES:Private Event
END:VEVENT
END:VCALENDAR