BEGIN:VCALENDAR
VERSION:2.0
PRODID:-//Bingley St Ives Golf Club - ECPv6.15.11//NONSGML v1.0//EN
CALSCALE:GREGORIAN
METHOD:PUBLISH
X-ORIGINAL-URL:https://bingleystivesgc.com
X-WR-CALDESC:Events for Bingley St Ives Golf Club
REFRESH-INTERVAL;VALUE=DURATION:PT1H
X-Robots-Tag:noindex
X-PUBLISHED-TTL:PT1H
BEGIN:VTIMEZONE
TZID:UTC
BEGIN:STANDARD
TZOFFSETFROM:+0000
TZOFFSETTO:+0000
TZNAME:UTC
DTSTART:20210101T000000
END:STANDARD
END:VTIMEZONE
BEGIN:VEVENT
DTSTART;TZID=UTC:20230304T180000
DTEND;TZID=UTC:20230304T233000
DTSTAMP:20260423T220503
CREATED:20230119T181849Z
LAST-MODIFIED:20230119T181849Z
UID:6183-1677952800-1677972600@bingleystivesgc.com
SUMMARY:Private Event
DESCRIPTION:60th Birthday Party
URL:https://bingleystivesgc.com/event/private-event-122/
CATEGORIES:Private Event
END:VEVENT
BEGIN:VEVENT
DTSTART;TZID=UTC:20230218T183000
DTEND;TZID=UTC:20230218T233000
DTSTAMP:20260423T220503
CREATED:20221118T135520Z
LAST-MODIFIED:20221118T135520Z
UID:5954-1676745000-1676763000@bingleystivesgc.com
SUMMARY:Private Event
DESCRIPTION:Harden CC Annual Dinner
URL:https://bingleystivesgc.com/event/private-event-100/
CATEGORIES:Private Event
END:VEVENT
BEGIN:VEVENT
DTSTART;TZID=UTC:20230127T183000
DTEND;TZID=UTC:20230127T233000
DTSTAMP:20260423T220503
CREATED:20221017T115810Z
LAST-MODIFIED:20221017T115810Z
UID:5351-1674844200-1674862200@bingleystivesgc.com
SUMMARY:Private Event
DESCRIPTION:Bowling Club Annual Dinner x 50
URL:https://bingleystivesgc.com/event/private-event-102/
CATEGORIES:Private Event
END:VEVENT
BEGIN:VEVENT
DTSTART;TZID=UTC:20230121T190000
DTEND;TZID=UTC:20230121T233000
DTSTAMP:20260423T220503
CREATED:20221017T115701Z
LAST-MODIFIED:20221017T115701Z
UID:5349-1674327600-1674343800@bingleystivesgc.com
SUMMARY:Private Event
DESCRIPTION:Surprise 70th x 100
URL:https://bingleystivesgc.com/event/private-event-101/
CATEGORIES:Private Event
END:VEVENT
BEGIN:VEVENT
DTSTART;TZID=UTC:20221230T183000
DTEND;TZID=UTC:20221230T233000
DTSTAMP:20260423T220503
CREATED:20221024T140859Z
LAST-MODIFIED:20221024T140859Z
UID:5426-1672425000-1672443000@bingleystivesgc.com
SUMMARY:Private Event
DESCRIPTION:80th Birthday Party 60/70 people
URL:https://bingleystivesgc.com/event/private-event-110/
CATEGORIES:Private Event
END:VEVENT
BEGIN:VEVENT
DTSTART;TZID=UTC:20221228T153000
DTEND;TZID=UTC:20221228T200000
DTSTAMP:20260423T220503
CREATED:20221011T072249Z
LAST-MODIFIED:20221011T072249Z
UID:5333-1672241400-1672257600@bingleystivesgc.com
SUMMARY:Private Event
DESCRIPTION:40 people – 90th Birthday
URL:https://bingleystivesgc.com/event/private-event-99/
CATEGORIES:Private Event
END:VEVENT
BEGIN:VEVENT
DTSTART;TZID=UTC:20221220T160000
DTEND;TZID=UTC:20221220T200000
DTSTAMP:20260423T220503
CREATED:20221027T142330Z
LAST-MODIFIED:20221027T142330Z
UID:5454-1671552000-1671566400@bingleystivesgc.com
SUMMARY:Early Bird Christmas Dining
DESCRIPTION:
URL:https://bingleystivesgc.com/event/early-bird-christmas-dining-2/
CATEGORIES:Private Event
END:VEVENT
BEGIN:VEVENT
DTSTART;TZID=UTC:20221216T180000
DTEND;TZID=UTC:20221216T233000
DTSTAMP:20260423T220503
CREATED:20220113T180551Z
LAST-MODIFIED:20220113T180551Z
UID:4739-1671213600-1671233400@bingleystivesgc.com
SUMMARY:Private Event
DESCRIPTION:Horse Riding Centre Xmas party
URL:https://bingleystivesgc.com/event/private-event-55/
CATEGORIES:Private Event
END:VEVENT
BEGIN:VEVENT
DTSTART;TZID=UTC:20221213T180000
DTEND;TZID=UTC:20221213T230000
DTSTAMP:20260423T220503
CREATED:20220825T060739Z
LAST-MODIFIED:20220825T060739Z
UID:5261-1670954400-1670972400@bingleystivesgc.com
SUMMARY:Private Event
DESCRIPTION:Wilsden WI Xmas Dinner x 50
URL:https://bingleystivesgc.com/event/private-event-95/
CATEGORIES:Private Event
END:VEVENT
BEGIN:VEVENT
DTSTART;TZID=UTC:20221210T080000
DTEND;TZID=UTC:20221210T170000
DTSTAMP:20260423T220503
CREATED:20220111T115107Z
LAST-MODIFIED:20220111T115107Z
UID:4705-1670659200-1670691600@bingleystivesgc.com
SUMMARY:Private Event
DESCRIPTION:Aireworth Vets Xmas Party
URL:https://bingleystivesgc.com/event/private-event-54/
CATEGORIES:Private Event
END:VEVENT
BEGIN:VEVENT
DTSTART;TZID=UTC:20221209T180000
DTEND;TZID=UTC:20221209T233000
DTSTAMP:20260423T220503
CREATED:20220111T114723Z
LAST-MODIFIED:20220113T180053Z
UID:4699-1670608800-1670628600@bingleystivesgc.com
SUMMARY:Private Event
DESCRIPTION:Brooks Taverner Xmas Party
URL:https://bingleystivesgc.com/event/private-event-53/
CATEGORIES:Private Event
END:VEVENT
BEGIN:VEVENT
DTSTART;TZID=UTC:20221203T120000
DTEND;TZID=UTC:20221203T163000
DTSTAMP:20260423T220503
CREATED:20220825T060554Z
LAST-MODIFIED:20220825T060554Z
UID:5259-1670068800-1670085000@bingleystivesgc.com
SUMMARY:Private Event
DESCRIPTION:St Johns Bowling Club
URL:https://bingleystivesgc.com/event/private-event-94/
CATEGORIES:Private Event
END:VEVENT
BEGIN:VEVENT
DTSTART;TZID=UTC:20221126T183000
DTEND;TZID=UTC:20221126T233000
DTSTAMP:20260423T220503
CREATED:20220111T112242Z
LAST-MODIFIED:20220111T112242Z
UID:4697-1669487400-1669505400@bingleystivesgc.com
SUMMARY:Private Charity Event
DESCRIPTION:
URL:https://bingleystivesgc.com/event/private-charity-event-3/
CATEGORIES:Private Event
END:VEVENT
BEGIN:VEVENT
DTSTART;TZID=UTC:20221125T190000
DTEND;TZID=UTC:20221125T230000
DTSTAMP:20260423T220503
CREATED:20220825T060353Z
LAST-MODIFIED:20220825T060353Z
UID:5257-1669402800-1669417200@bingleystivesgc.com
SUMMARY:Private Event
DESCRIPTION:IMAS Presentation Evening
URL:https://bingleystivesgc.com/event/private-event-93/
CATEGORIES:Private Event
END:VEVENT
BEGIN:VEVENT
DTSTART;TZID=UTC:20221118T080000
DTEND;TZID=UTC:20221118T170000
DTSTAMP:20260423T220503
CREATED:20220825T060201Z
LAST-MODIFIED:20220825T060201Z
UID:5253-1668758400-1668790800@bingleystivesgc.com
SUMMARY:Gents End of Season Dinner
DESCRIPTION:7.00pm v 70
URL:https://bingleystivesgc.com/event/gents-end-of-season-dinner-3/
CATEGORIES:Private Event,Social
END:VEVENT
BEGIN:VEVENT
DTSTART;TZID=UTC:20221112T183000
DTEND;TZID=UTC:20221112T233000
DTSTAMP:20260423T220503
CREATED:20220111T112139Z
LAST-MODIFIED:20220111T112139Z
UID:4695-1668277800-1668295800@bingleystivesgc.com
SUMMARY:Private Event
DESCRIPTION:50th Birthday – O’Neill
URL:https://bingleystivesgc.com/event/private-event-52/
CATEGORIES:Private Event
END:VEVENT
BEGIN:VEVENT
DTSTART;TZID=UTC:20221105T183000
DTEND;TZID=UTC:20221105T233000
DTSTAMP:20260423T220503
CREATED:20220111T112037Z
LAST-MODIFIED:20220111T112037Z
UID:4693-1667673000-1667691000@bingleystivesgc.com
SUMMARY:Private Event
DESCRIPTION:
URL:https://bingleystivesgc.com/event/private-event-51/
CATEGORIES:Private Event
END:VEVENT
BEGIN:VEVENT
DTSTART;TZID=UTC:20221105T180000
DTEND;TZID=UTC:20221105T233000
DTSTAMP:20260423T220503
CREATED:20220701T125907Z
LAST-MODIFIED:20220701T125907Z
UID:5145-1667671200-1667691000@bingleystivesgc.com
SUMMARY:Private Event
DESCRIPTION:Cullingworth Bowling Club x 60
URL:https://bingleystivesgc.com/event/private-event-83/
CATEGORIES:Private Event
END:VEVENT
BEGIN:VEVENT
DTSTART;TZID=UTC:20221104T180000
DTEND;TZID=UTC:20221104T233000
DTSTAMP:20260423T220503
CREATED:20220825T055955Z
LAST-MODIFIED:20220825T055955Z
UID:5249-1667584800-1667604600@bingleystivesgc.com
SUMMARY:Private Event
DESCRIPTION:Cullingworth Bowling Club x 50
URL:https://bingleystivesgc.com/event/private-event-92/
CATEGORIES:Private Event
END:VEVENT
BEGIN:VEVENT
DTSTART;TZID=UTC:20221029T130000
DTEND;TZID=UTC:20221029T163000
DTSTAMP:20260423T220503
CREATED:20221011T071027Z
LAST-MODIFIED:20221011T071027Z
UID:5316-1667048400-1667061000@bingleystivesgc.com
SUMMARY:Private Event
DESCRIPTION:Baby Shower x 20
URL:https://bingleystivesgc.com/event/private-event-98/
CATEGORIES:Private Event
END:VEVENT
BEGIN:VEVENT
DTSTART;TZID=UTC:20221028T183000
DTEND;TZID=UTC:20221028T233000
DTSTAMP:20260423T220503
CREATED:20220825T055757Z
LAST-MODIFIED:20220825T055757Z
UID:5247-1666981800-1666999800@bingleystivesgc.com
SUMMARY:Private Event
DESCRIPTION:Crossflatts CC Dinner x 100
URL:https://bingleystivesgc.com/event/private-event-91/
CATEGORIES:Private Event
END:VEVENT
BEGIN:VEVENT
DTSTART;TZID=UTC:20221022T190000
DTEND;TZID=UTC:20221022T233000
DTSTAMP:20260423T220503
CREATED:20220221T170755Z
LAST-MODIFIED:20220221T170755Z
UID:4994-1666465200-1666481400@bingleystivesgc.com
SUMMARY:Private Event
DESCRIPTION:40th birthday x 80
URL:https://bingleystivesgc.com/event/private-event-70/
CATEGORIES:Private Event
END:VEVENT
BEGIN:VEVENT
DTSTART;TZID=UTC:20221021T143000
DTEND;TZID=UTC:20221021T233000
DTSTAMP:20260423T220503
CREATED:20220111T110308Z
LAST-MODIFIED:20221011T070713Z
UID:4677-1666362600-1666395000@bingleystivesgc.com
SUMMARY:Private Event - Lounge & Dining Room Closed from midday
DESCRIPTION:Wedding Celebration – 10years – Chapman 120 people
URL:https://bingleystivesgc.com/event/private-event-50/
CATEGORIES:Private Event
END:VEVENT
BEGIN:VEVENT
DTSTART;TZID=UTC:20221017T180000
DTEND;TZID=UTC:20221017T203000
DTSTAMP:20260423T220503
CREATED:20221011T070224Z
LAST-MODIFIED:20221011T070224Z
UID:5307-1666029600-1666038600@bingleystivesgc.com
SUMMARY:Private Event
DESCRIPTION:Ladies x 20
URL:https://bingleystivesgc.com/event/private-event-97/
CATEGORIES:Private Event
END:VEVENT
BEGIN:VEVENT
DTSTART;TZID=UTC:20221015T180000
DTEND;TZID=UTC:20221015T233000
DTSTAMP:20260423T220503
CREATED:20220701T125714Z
LAST-MODIFIED:20220701T125714Z
UID:5143-1665856800-1665876600@bingleystivesgc.com
SUMMARY:Private Event
DESCRIPTION:
URL:https://bingleystivesgc.com/event/private-event-82/
CATEGORIES:Private Event
END:VEVENT
BEGIN:VEVENT
DTSTART;TZID=UTC:20221014T183000
DTEND;TZID=UTC:20221014T233000
DTSTAMP:20260423T220503
CREATED:20220111T105919Z
LAST-MODIFIED:20220111T105919Z
UID:4669-1665772200-1665790200@bingleystivesgc.com
SUMMARY:Private Event
DESCRIPTION:Crossflatts Cricket Club Dinner
URL:https://bingleystivesgc.com/event/private-event-49/
CATEGORIES:Private Event
END:VEVENT
BEGIN:VEVENT
DTSTART;TZID=UTC:20221012T190000
DTEND;TZID=UTC:20221012T230000
DTSTAMP:20260423T220503
CREATED:20221011T070042Z
LAST-MODIFIED:20221011T070042Z
UID:5305-1665601200-1665615600@bingleystivesgc.com
SUMMARY:Private Event
DESCRIPTION:Dinner x 24
URL:https://bingleystivesgc.com/event/private-event-96/
CATEGORIES:Private Event
END:VEVENT
BEGIN:VEVENT
DTSTART;TZID=UTC:20221008T183000
DTEND;TZID=UTC:20221008T233000
DTSTAMP:20260423T220503
CREATED:20220221T170305Z
LAST-MODIFIED:20220221T170305Z
UID:4988-1665253800-1665271800@bingleystivesgc.com
SUMMARY:Private Event
DESCRIPTION:Wedding Celebration x 100
URL:https://bingleystivesgc.com/event/private-event-69/
CATEGORIES:Private Event
END:VEVENT
BEGIN:VEVENT
DTSTART;TZID=UTC:20221001T183000
DTEND;TZID=UTC:20221001T233000
DTSTAMP:20260423T220503
CREATED:20220408T150153Z
LAST-MODIFIED:20220408T150153Z
UID:5081-1664649000-1664667000@bingleystivesgc.com
SUMMARY:Private Event
DESCRIPTION:120 wedding anniversary
URL:https://bingleystivesgc.com/event/private-event-75/
CATEGORIES:Private Event
END:VEVENT
BEGIN:VEVENT
DTSTART;TZID=UTC:20220924T183000
DTEND;TZID=UTC:20220924T233000
DTSTAMP:20260423T220503
CREATED:20220111T105138Z
LAST-MODIFIED:20220111T105138Z
UID:4645-1664044200-1664062200@bingleystivesgc.com
SUMMARY:Private Event
DESCRIPTION:60th Birthday Wood
URL:https://bingleystivesgc.com/event/private-event-48/
CATEGORIES:Private Event
END:VEVENT
END:VCALENDAR